BEGIN:VCALENDAR
VERSION:2.0
PRODID:-//Schloss Blumenfeld - ECPv6.3.7//NONSGML v1.0//EN
CALSCALE:GREGORIAN
METHOD:PUBLISH
X-WR-CALNAME:Schloss Blumenfeld
X-ORIGINAL-URL:https://schloss-blumenfeld.de
X-WR-CALDESC:Veranstaltungen für Schloss Blumenfeld
REFRESH-INTERVAL;VALUE=DURATION:PT1H
X-Robots-Tag:noindex
X-PUBLISHED-TTL:PT1H
BEGIN:VTIMEZONE
TZID:Europe/Berlin
BEGIN:DAYLIGHT
TZOFFSETFROM:+0100
TZOFFSETTO:+0200
TZNAME:CEST
DTSTART:20230326T010000
END:DAYLIGHT
BEGIN:STANDARD
TZOFFSETFROM:+0200
TZOFFSETTO:+0100
TZNAME:CET
DTSTART:20231029T010000
END:STANDARD
END:VTIMEZONE
BEGIN:VEVENT
DTSTART;TZID=Europe/Berlin:20230528T150000
DTEND;TZID=Europe/Berlin:20230528T160000
DTSTAMP:20260425T173609
CREATED:20220320T070508Z
LAST-MODIFIED:20230518T203855Z
UID:1606-1685286000-1685289600@schloss-blumenfeld.de
SUMMARY:Schlossführung am 28. Mai 2023 um 15:00 Uhr
DESCRIPTION:Schlossführung durch Schloss Blumenfeld\nTermin: 28. Mai 2023 von 15.00 – 16.00 UhrKosten: gegen Spende \nLerne das Schloss kennen\nDie Blumenfelderin Mariele Stiehl\, führt dich durch die verschiedenen Zeitepochen\, die das Schloss durchlebt hat. Vom Obervogt in der Renaissance über die badische Zeit im 19. Jahrhundert\, zu 130 Jahre Zweckverband. \nTeilnehmer:innen-Begrenzung 15 Personen \n			\n			\n				\n				\n				\n				\n				\n				\n				\n				\n				\n				\n			\n			\n				\n				\n				\n				\n			\n				\n				\n				\n				\n				\n				\n			\n				\n				\n				\n				\n				Bitte melden Sie sich zur Führung an:\n				\n				\n				\n					\n						\n				\n				\n				\n				\n				Vor-und Nachname\n				\n			 \n				\n				\n				\n				\n				E-Mail-Adresse\n				\n			 \n				\n				\n				\n				\n				Ihre Nachricht\n				\n			 \n				\n				\n				\n				\n				 \n				\n					\n						 \n						\n							\n							2023\n						\n					\n			 \n						\n						\n							\n							Verbindlich anmelden
URL:https://schloss-blumenfeld.de/veranstaltung/schlossfuehrung-am-02-april-2023/
LOCATION:Schloss Blumenfeld\, Schlossstraße 12\, Tengen\, 78250\, Deutschland
CATEGORIES:Schlossführung,Startseite
ATTACH;FMTTYPE=image/jpeg:https://schloss-blumenfeld.de/wp-content/uploads/2021/10/Schlossfuehrung.jpg
ORGANIZER;CN="Mariele Stiehl":MAILTO:mariele.stiehl@schloss-blumenfeld.de
END:VEVENT
END:VCALENDAR