BEGIN:VCALENDAR
VERSION:2.0
PRODID:-//Schloss Blumenfeld - ECPv6.3.7//NONSGML v1.0//EN
CALSCALE:GREGORIAN
METHOD:PUBLISH
X-ORIGINAL-URL:https://schloss-blumenfeld.de
X-WR-CALDESC:Veranstaltungen für Schloss Blumenfeld
REFRESH-INTERVAL;VALUE=DURATION:PT1H
X-Robots-Tag:noindex
X-PUBLISHED-TTL:PT1H
BEGIN:VTIMEZONE
TZID:Europe/Berlin
BEGIN:DAYLIGHT
TZOFFSETFROM:+0100
TZOFFSETTO:+0200
TZNAME:CEST
DTSTART:20250330T010000
END:DAYLIGHT
BEGIN:STANDARD
TZOFFSETFROM:+0200
TZOFFSETTO:+0100
TZNAME:CET
DTSTART:20251026T010000
END:STANDARD
END:VTIMEZONE
BEGIN:VEVENT
DTSTART;TZID=Europe/Berlin:20250704T190000
DTEND;TZID=Europe/Berlin:20250704T230000
DTSTAMP:20260425T180957
CREATED:20240416T172240Z
LAST-MODIFIED:20241222T164423Z
UID:5472-1751655600-1751670000@schloss-blumenfeld.de
SUMMARY:Feierabendhock mit Bierverkostung #2
DESCRIPTION:O’zapft is! Seit zwei Jahren braut eine engagierte Truppe aus dem Bürgerverein eigenes Bier: Das Blumenfelder Schlossbräu – ein echter Geheimtipp! Beim Feierabendhock heute gibt es zum mittlerweile zweiten Mal die Möglichkeit\, diesen edlen Tropfen zu verkosten und mit den Bierbrauern über ihr Projekt ins Gespräch zu kommen. Dazu gibt es wie immer ein geselliges Miteinander und gute Gespräche! \nLos geht’s wie gewohnt um 19 Uhr. Für alle interessierten Hobbybrauer*innen gibt es zwischen 19:30 und 20 Uhr eine Kurzvorstellung des Teams und des Projekts. Wir freuen uns auf einen hopfigen und leckeren Abend mit euch!
URL:https://schloss-blumenfeld.de/veranstaltung/feierabendhock-mit-bierverkostung/
LOCATION:Schlosscafé im Schloss Blumenfeld\, Schlossstraße 12\, Tengen\, 78250\, Deutschland
CATEGORIES:Feierabendhock,Startseite
ATTACH;FMTTYPE=image/jpeg:https://schloss-blumenfeld.de/wp-content/uploads/2024/04/Schlossbraeu.jpg
END:VEVENT
BEGIN:VEVENT
DTSTART;TZID=Europe/Berlin:20250706T140000
DTEND;TZID=Europe/Berlin:20250706T153000
DTSTAMP:20260425T180957
CREATED:20250410T155645Z
LAST-MODIFIED:20250410T155645Z
UID:7181-1751810400-1751815800@schloss-blumenfeld.de
SUMMARY:Historische Schlossführung
DESCRIPTION:mit Stadtführerin Claudia Schäffer \nSeit über 500 Jahren thront das Schloss Blumenfeld auf einem mächtigen Kalkfelsen hoch über dem Wasserfall der Biber. Schicht auf Schicht bergen die Mauern Relikte aus allen Epochen der wechselhaften Nutzung des Schlosses\, das einst vom Deutschen Ritterorden erbaut wurde. \nDie Schlossführung ist nicht barrierefrei. Im Anschluss der Führung ist eine Einkehr im Schlosscafé möglich. \nTreffpunkt: im Schlosshof\nPreis: 15 € für Erwachsene\, 7\,50 € für Kinder\nDauer: ca. 1\,5 h \nBitte meldet euch vorher unter veranstaltungen@schloss-blumenfeld.de für die Schlossführung an.
URL:https://schloss-blumenfeld.de/veranstaltung/historische-schlossfuehrung-6/
LOCATION:Schloss Blumenfeld\, Schlossstraße 12\, Tengen\, 78250\, Deutschland
CATEGORIES:Schlossführung,Startseite
ATTACH;FMTTYPE=image/jpeg:https://schloss-blumenfeld.de/wp-content/uploads/2021/10/Schlossfuehrung.jpg
ORGANIZER;CN="Zukunftsort Schloss Blumenfeld GmbH":MAILTO:hallo@schloss-blumenfeld.de
END:VEVENT
BEGIN:VEVENT
DTSTART;TZID=Europe/Berlin:20250712T193000
DTEND;TZID=Europe/Berlin:20250712T220000
DTSTAMP:20260425T180957
CREATED:20250409T110220Z
LAST-MODIFIED:20250409T111130Z
UID:7156-1752348600-1752357600@schloss-blumenfeld.de
SUMMARY:Homecoming-Konzert mit Dunkelgrün (aka Marius Helber)
DESCRIPTION:Dunkelgrün x Mietzi Records x Schloss Blumenfeld präsentieren: Dunkelgrün (aka Marius Helber)! \nManche Abende brauchen kein großes Konzept. Nur gute Menschen\, ehrliche Musik – und einen Ort\, der etwas bedeutet. \nWenn Geschichten zurückkehren\, wo sie einst begannen – wenn ein Innenhof sich füllt mit alten Bekannten\, neuen Liedern und einem Gefühl von „genau hier“ – dann ist vielleicht Homecoming. Dunkelgrün\, das Soloprojekt von Marius Helber\, ist genau das: persönlich\, ehrlich\, nah. 2023 stand Marius als Teil seiner damaligen Band auf unserer Bühne – beim Auftakt der Hofkonzerte-Saison. Zwei Jahre später kehrt er zurück: unter dem Namen Dunkelgrün\, solo unterwegs\, mit Mietzi Records im Rücken und einem liebevoll kuratierten Set aus ausgewählten Coversongs. Tiefgründige Texte\, persönliche Favoriten\, neu interpretiert – mit eigenem Twist und ganz viel Gefühl.\nFür das letzte Konzert seiner Sommertour kehrt er zurück an den Ort\, an dem alles seinen Anfang nahm. \n\nAlles endet\, aber nie die Musik.\nDas war immer der Plan – bis jetzt.\nAlleine\, aber doch mit ganzer Band im Gepäck\, geht Dunkelgrün auf die Bühne\,\num herauszufinden\, ob da noch etwas ist – oder ob es Zeit wird\, loszulassen.\nZwischen melancholischem Indie-Pop-Rock und lauten\, ehrlichen Momenten\nstellt er sich der größten Angst: Was\, wenn das hier alles war? \nEin Konzert zwischen Innen und Außen\, zwischen Jetzt und Vielleicht.\nZwischen Schlossmauern\, Lichterketten und Sommerluft. \nKommt vorbei! Der Eintritt ist frei – denn Musik ist am schönsten\, wenn man sie teilt.\nEinlass: 19:30 Uhr | Beginn: 20:00 Uhr
URL:https://schloss-blumenfeld.de/veranstaltung/homecoming-konzert-mit-dunkelgruen-aka-marius-helber/
LOCATION:Kulturbühne Schloss Blumenfeld\, Schlossstraße 12\, Tengen\, 78250\, Deutschland
CATEGORIES:Hofkonzerte,Startseite
ATTACH;FMTTYPE=image/jpeg:https://schloss-blumenfeld.de/wp-content/uploads/2025/04/Hofkonzert-mit-DUNKELGRUeN.jpg
END:VEVENT
BEGIN:VEVENT
DTSTART;TZID=Europe/Berlin:20250715T150000
DTEND;TZID=Europe/Berlin:20250715T170000
DTSTAMP:20260425T180957
CREATED:20240108T203929Z
LAST-MODIFIED:20250703T095639Z
UID:4835-1752591600-1752598800@schloss-blumenfeld.de
SUMMARY:Senior*innen-Nachmittag
DESCRIPTION:Der Bürgerverein Schloss Blumenfeld e.V lädt herzlich alle Seniorinnen und Senioren zu einem gemütlichen Nachmittag bei Kaffee und Kuchen ein. Bei schönem Wetter auf der Schloss Terrasse.\nWie jedes Mal gibt es eine kleine Überraschung in Form von einer Mini-Lesung oder einem lustigen Spiel. \nWir freuen uns auf euch!\nEuer Bürgerverein Schloss Blumenfeld e.V
URL:https://schloss-blumenfeld.de/veranstaltung/seniorinnen-nachmittag-2/
LOCATION:Schlosscafé im Schloss Blumenfeld\, Schlossstraße 12\, Tengen\, 78250\, Deutschland
CATEGORIES:Seniorennachmittag,Startseite
ATTACH;FMTTYPE=image/jpeg:https://schloss-blumenfeld.de/wp-content/uploads/2024/04/Kuchenvitrine.jpg
END:VEVENT
BEGIN:VEVENT
DTSTART;TZID=Europe/Berlin:20250718T190000
DTEND;TZID=Europe/Berlin:20250718T230000
DTSTAMP:20260425T180957
CREATED:20230407T205841Z
LAST-MODIFIED:20241222T205428Z
UID:3603-1752865200-1752879600@schloss-blumenfeld.de
SUMMARY:Feierabendhock mit Kreativwerkstatt #4
DESCRIPTION:Heute wird’s bunt! Bei diesem Feierabendhock-Special begrüßen wir Jutta\, die das Schlosscafé in eine Kartenmacherei verwandelt. Unter ihrer Anleitung erstellen wir Grußkarten für jeden Anlass und kolorieren Zeichnungen mit Wasserfarben. Vorkenntnisse sind nicht erforderlich\, mitmachen kann jede*r\, der oder die Lust und Freude an Farbe hat. Falls du lieber an einem eigenen Projekt werkeln möchtest\, bring gerne dein aktuelles Strick-\, Bastel- oder sonstiges Projekt mit und lass dich von der geschäftigen Atmosphäre und anderen kreativen Köpfen inspirieren. Wir freuen uns\, wenn du dabei bist! \nDer Feierabendhock beginnt um 19 Uhr. Wir freuen uns auf einen bunten und kreativen Abend mit euch! \nPS: Wie gewohnt kannst du auch ohne kreativ zu werden einfach zu einem Feierabendgetränk und guten Gesprächen vorbeikommen.
URL:https://schloss-blumenfeld.de/veranstaltung/feierabendhock-5/
LOCATION:Schlosscafé im Schloss Blumenfeld\, Schlossstraße 12\, Tengen\, 78250\, Deutschland
CATEGORIES:Feierabendhock,Startseite
ATTACH;FMTTYPE=image/jpeg:https://schloss-blumenfeld.de/wp-content/uploads/2023/04/Schlossmanufaktur-scaled.jpg
END:VEVENT
BEGIN:VEVENT
DTSTART;TZID=Europe/Berlin:20250720T143000
DTEND;TZID=Europe/Berlin:20250720T160000
DTSTAMP:20260425T180957
CREATED:20250410T161248Z
LAST-MODIFIED:20250410T161248Z
UID:7191-1753021800-1753027200@schloss-blumenfeld.de
SUMMARY:Schlossführung mit dem Bürgerverein
DESCRIPTION:Die Blumenfelderin Mariele Stiehl führt euch durch die verschiedenen Zeitepochen\, die das Schloss durchlebt hat. Vom Obervogt in der Renaissance über die badische Zeit im 19. Jahrhundert zu 130 Jahre Zweckverband. Für Kaffee und Kuchen ist im Anschluss auch gesorgt – denn das Schlosscafé hat an diesem Termin parallel geöffnet. \n\nWir bitten um Anmeldung per E-Mail unter mariele.stiehl@schloss-blumenfeld.de (bis 3 Tage vorher\, Restplätze ggf. vor Ort). Die Mindestteilnehmerzahl beträgt 5\, max. 12. Treffpunkt ist der Schlossvorplatz. Wir freuen uns auf euch!
URL:https://schloss-blumenfeld.de/veranstaltung/schlossfuehrung-mit-dem-buergerverein-9/
LOCATION:Schloss Blumenfeld\, Schlossstraße 12\, Tengen\, 78250\, Deutschland
CATEGORIES:Schlossführung,Startseite
ATTACH;FMTTYPE=image/jpeg:https://schloss-blumenfeld.de/wp-content/uploads/2024/04/Schlossfuehrung-mit-Mariele.jpg
END:VEVENT
BEGIN:VEVENT
DTSTART;TZID=Europe/Berlin:20250720T160000
DTEND;TZID=Europe/Berlin:20250720T170000
DTSTAMP:20260425T180957
CREATED:20250711T182900Z
LAST-MODIFIED:20250713T174702Z
UID:7399-1753027200-1753030800@schloss-blumenfeld.de
SUMMARY:Detektiv Allegro: Das Kinder-Mitmach-Konzert
DESCRIPTION:Es ist zum Verzweifeln: Überall verschwinden Musiknoten und die Musik selbst in in Gefahr! In Blumenfeld scheint noch alles in Ordnung zu sein – oder doch nicht? \nVielleicht kann Detektiv Allegro das Rätsel lösen.\nUm den seltsamen Vorkommnissen auf die Spur zu kommen\, braucht der Musikverein Bohlingen am Sonntag\, den 20. Juli 2025\, die tatkräftige Unterstützung von vielen Kindern.\nJe mehr Nachwuchs-Detektive kommen und helfen\, umso eher kann das Rätsel gelöst werden. Auch Erwachsene sind bei der Lösung des Falls zur Mithilfe herzlich eingeladen. \nKommt vorbei und werdet Teil dieses musikalischen Abenteuers.\nWir danken Euch jetzt schon für eure wertvolle Unterstützung! \nDer Eintritt ist frei – um Hutspende wird gebeten.
URL:https://schloss-blumenfeld.de/veranstaltung/detektiv-allegro-das-kinder-mitmach-konzert/
LOCATION:Kulturbühne Schloss Blumenfeld\, Schlossstraße 12\, Tengen\, 78250\, Deutschland
CATEGORIES:Kinder,Startseite
ATTACH;FMTTYPE=image/jpeg:https://schloss-blumenfeld.de/wp-content/uploads/2024/02/TUKK-2.jpg
END:VEVENT
BEGIN:VEVENT
DTSTART;TZID=Europe/Berlin:20250725T193000
DTEND;TZID=Europe/Berlin:20250725T220000
DTSTAMP:20260425T180957
CREATED:20250308T210752Z
LAST-MODIFIED:20250317T111615Z
UID:7091-1753471800-1753480800@schloss-blumenfeld.de
SUMMARY:Hofkonzert-Special: Sing-Along mit Gwasch
DESCRIPTION:Schloss Blumenfeld & Mietzi Records präsentieren: Sing-Along mit Gwasch! \nSeit Jahren sorgen Gwasch in ganz Süddeutschland mit ihren Sing-Along-Konzerten für magische Momente – jetzt bringen sie dieses einzigartige Erlebnis ins Schloss Blumenfeld und wir laden gemeinsam zum größten Sing-Along im Hegau! Nennt es Wunschkonzert oder Gruppen-Karaoke: Ihr wünscht euch Songs\, Gwasch spielt sie live\, alle singen mit! \nVon Schlager über 90er-Pop bis Punkrock – es gibt keine falschen Töne\, nur laute Stimmen und jede Menge Spaß! Die Texte werden an die Wand projiziert\, also keine Ausreden – mitsingen ist Pflicht! Gemeinsam bringen wir den Innenhof zum Beben und machen das größte und schönste Sing-Along-Event im Hegau möglich. Schnappt euch euer Fünf-Freunde-Ticket für 50 € und packt eure Lieblingsmenschen ein – ob Freundinnen\, Familie oder Chorkolleginnen\, Hauptsache: Wir singen zusammen! \nTickets: ab sofort über Eventbrite\nEinlass: 19:30 Uhr | Beginn: 20:00 Uhr \nSollte das Konzert wetterbedingt nicht stattfinden können\, verlegen wir es in die Innenräume des Schlosses oder auf ein anderes Datum. Die Tickets behalten in jedem Fall ihre Gültigkeit. Ihr unterstützt uns durch einen frühzeitigen Ticketkauf sehr – danke! Stimmt eure Stimmen\, wärmt eure Kehlen – wir freuen uns auf euch!
URL:https://schloss-blumenfeld.de/veranstaltung/hofkonzert-special-sing-along-mit-gwasch/
LOCATION:Kulturbühne Schloss Blumenfeld\, Schlossstraße 12\, Tengen\, 78250\, Deutschland
CATEGORIES:Hofkonzerte,Startseite
ATTACH;FMTTYPE=image/jpeg:https://schloss-blumenfeld.de/wp-content/uploads/2025/03/Hofkonzert-mit-Gwasch.jpg
END:VEVENT
END:VCALENDAR