BEGIN:VCALENDAR
VERSION:2.0
PRODID:-//Schloss Blumenfeld - ECPv6.3.7//NONSGML v1.0//EN
CALSCALE:GREGORIAN
METHOD:PUBLISH
X-ORIGINAL-URL:https://schloss-blumenfeld.de
X-WR-CALDESC:Veranstaltungen für Schloss Blumenfeld
REFRESH-INTERVAL;VALUE=DURATION:PT1H
X-Robots-Tag:noindex
X-PUBLISHED-TTL:PT1H
BEGIN:VTIMEZONE
TZID:Europe/Berlin
BEGIN:DAYLIGHT
TZOFFSETFROM:+0100
TZOFFSETTO:+0200
TZNAME:CEST
DTSTART:20240331T010000
END:DAYLIGHT
BEGIN:STANDARD
TZOFFSETFROM:+0200
TZOFFSETTO:+0100
TZNAME:CET
DTSTART:20241027T010000
END:STANDARD
END:VTIMEZONE
BEGIN:VEVENT
DTSTART;TZID=Europe/Berlin:20241018T183000
DTEND;TZID=Europe/Berlin:20241018T213000
DTSTAMP:20260420T013332
CREATED:20240110T103541Z
LAST-MODIFIED:20241017T131917Z
UID:4852-1729276200-1729287000@schloss-blumenfeld.de
SUMMARY:Hofkonzert mit Deen & Blumenstein
DESCRIPTION:Schloss Blumenfeld & NUN-Magazin präsentieren euch die Hofkonzerte-Saison 2024: \nSchon zweimal hat uns die Band Deen & Blumenstein mit ihrer Musik und herrlichen Art vom Hocker gehauen! Deswegen freuen wir uns umso mehr\, dass sie als „alte“ Tradition auch 2024 wieder spielen und mit uns die Hofkonzerte-Saison im Oktober abschließen. \n„Glamfolk“ ist die selbst kreierte Musikrichtung\, die den Stil des Musik-Duos am besten beschreibt: Zarte Melodien\, nachdenkliche Texte\, gepaart mit unbändiger Energie\, einer charakteristischen Stimme und einer gesunden Portion Wahnsinn und Selbstironie. Alles auch Zutaten\, welche die Liveshows von Deen & Blumenstein so einzigartig\, unterhaltsam und unvergesslich machen. \nAufgrund der Wetterlage verlegen wir das Konzert in die Innenräume des Schlosses und feiern den Saisonabschluss in gemütlicher Wohnzimmeratmosphäre. \nTickets zum Preis von 12 € gibt es über Eventbrite (Abendkasse 15 €\, falls Restkarten verfügbar). \nEinlass: 18:30 Uhr | Beginn: 19:00 Uhr \n			\n				Jetzt Ticket sichern
URL:https://schloss-blumenfeld.de/veranstaltung/hofkonzert-mit-deen-blumenstein-3/
LOCATION:Kulturbühne Schloss Blumenfeld\, Schlossstraße 12\, Tengen\, 78250\, Deutschland
CATEGORIES:Hofkonzerte,Startseite
ATTACH;FMTTYPE=image/jpeg:https://schloss-blumenfeld.de/wp-content/uploads/2024/01/Deen-und-Blumenstein_Hofkonzert-2023.jpg
END:VEVENT
END:VCALENDAR