BEGIN:VCALENDAR
VERSION:2.0
PRODID:-//Schloss Blumenfeld - ECPv6.3.7//NONSGML v1.0//EN
CALSCALE:GREGORIAN
METHOD:PUBLISH
X-WR-CALNAME:Schloss Blumenfeld
X-ORIGINAL-URL:https://schloss-blumenfeld.de
X-WR-CALDESC:Veranstaltungen für Schloss Blumenfeld
REFRESH-INTERVAL;VALUE=DURATION:PT1H
X-Robots-Tag:noindex
X-PUBLISHED-TTL:PT1H
BEGIN:VTIMEZONE
TZID:Europe/Berlin
BEGIN:DAYLIGHT
TZOFFSETFROM:+0100
TZOFFSETTO:+0200
TZNAME:CEST
DTSTART:20240331T010000
END:DAYLIGHT
BEGIN:STANDARD
TZOFFSETFROM:+0200
TZOFFSETTO:+0100
TZNAME:CET
DTSTART:20241027T010000
END:STANDARD
END:VTIMEZONE
BEGIN:VEVENT
DTSTART;TZID=Europe/Berlin:20240430T200000
DTEND;TZID=Europe/Berlin:20240501T030000
DTSTAMP:20260419T172541
CREATED:20240204T161437Z
LAST-MODIFIED:20240427T150048Z
UID:5050-1714507200-1714532400@schloss-blumenfeld.de
SUMMARY:Tanz in den Mai (ausverkauft)
DESCRIPTION:Auf vielfachen Wunsch verwandelt sich der Schlosshof am 30. April in einen Dancefloor – und wir begrüßen den Mai dieses Jahr gemeinsam mit der Premiere von Tanz in den Mai! \nDas Stuttgarter Geschwister-DJ-Duo kögel&pöbel gibt sich zu diesem Anlass nach langer Zeit mal wieder in Originalbesetzung die Ehre und freut sich auf eine lange Partynacht. Groovige 70er und 80er\, Gutes und Fragwürdiges aus den 90ern und 2000ern\, eine gesunde Portion Charts und kleine Ausflüge in Richtung Schlager\, Rock oder Hip-Hop: Beim Ritt durch die verschiedenen Jahrzehnte wird musikalisch wenig ausgelassen\, was tanz- und feiertauglich ist. Besteht das Publikum den Charaktertest\, schafft es sogar mal die Gummibärenbande ins Set! Wir sind gespannt und freuen uns mit diesem Abend gleichzeitig den Startschuss in die Veranstaltungssaison 2024 einzuläuten. \n\nWir sind ausverkauft! Leider sind bereits alle Tickets vergriffen\, deswegen wird es keine Abendkasse geben. \nEinlass: 20 Uhr | Beginn: 22 Uhr
URL:https://schloss-blumenfeld.de/veranstaltung/tanz-in-den-mai/
LOCATION:Schloss Blumenfeld\, Schlossstraße 12\, Tengen\, 78250\, Deutschland
CATEGORIES:Startseite
ATTACH;FMTTYPE=image/jpeg:https://schloss-blumenfeld.de/wp-content/uploads/2024/02/koegelpoebel.jpg
END:VEVENT
BEGIN:VEVENT
DTSTART;TZID=Europe/Berlin:20240512T140000
DTEND;TZID=Europe/Berlin:20240512T170000
DTSTAMP:20260419T172541
CREATED:20240410T195801Z
LAST-MODIFIED:20240410T195801Z
UID:5456-1715522400-1715533200@schloss-blumenfeld.de
SUMMARY:Schlosscafé mit Ausstellung: (Vor)bilder
DESCRIPTION:Freut euch auf Kaffee\, Kuchen und Kunst in historischer Kulisse! \nAn diesem Sonntag ist das Schlosscafé wieder für euch geöffnet. Parallel dazu könnt ihr auch die aktuelle Ausstellung „(Vor)bilder“ kostenlos besichtigen. Mehr zur Ausstellung erfahrt ihr hier. Kommt vorbei!
URL:https://schloss-blumenfeld.de/veranstaltung/schlosscafe-mit-ausstellung-vorbilder-2/
LOCATION:Schlosscafé im Schloss Blumenfeld\, Schlossstraße 12\, Tengen\, 78250\, Deutschland
CATEGORIES:Ausstellung,Startseite
ATTACH;FMTTYPE=image/jpeg:https://schloss-blumenfeld.de/wp-content/uploads/2024/04/Fahrrad-Wegweiser.jpg
END:VEVENT
BEGIN:VEVENT
DTSTART;TZID=Europe/Berlin:20240517T183000
DTEND;TZID=Europe/Berlin:20240517T213000
DTSTAMP:20260419T172541
CREATED:20240204T152955Z
LAST-MODIFIED:20240501T175854Z
UID:5035-1715970600-1715981400@schloss-blumenfeld.de
SUMMARY:Hofkonzert mit Yasin & LateNightBand
DESCRIPTION:Das Hofkonzert mit Yasin & LateNightBand wird auf 2025 geschoben. \nEgal ob Oldschool\, Soul\, Rough oder Good Vibes – Yasin bringt mit seiner Musik Sounds für jeden\, der Musik liebt\, die echt ist und von Herzen kommt. Seit 2021 ist er zusammen mit der LateNightBand unterwegs auf den Bühnen der Republik. Knallende Hip-Hop-Sounds kombiniert mit Brass – die Jungs haben Feuer und sind heiß darauf\, jede Bühne zum Glühen zu bringen. Live konnten sie bereits auf mehreren Festivals und auch als Support für Culcha Candela hunderte von Menschen von sich überzeugen. Mit im Gepäck hat Yasin sein frisch veröffentlichtes Album „Leben“\, das die Vielschichtigkeit seiner künstlerischer Entwicklung widerspiegelt. Von eingängigen Melodien bis zu tiefgreifenden Texten verspricht das Album eine emotionale Achterbahnfahrt\, die die Zuhörer auf eine Reise durch verschiedene Facetten des Lebens mitnimmt.
URL:https://schloss-blumenfeld.de/veranstaltung/hofkonzert-mit-yasin-latenightband/
LOCATION:Kulturbühne Schloss Blumenfeld\, Schlossstraße 12\, Tengen\, 78250\, Deutschland
CATEGORIES:Hofkonzerte
ATTACH;FMTTYPE=image/jpeg:https://schloss-blumenfeld.de/wp-content/uploads/2024/02/Yasin-Hofkonzert.jpg
END:VEVENT
BEGIN:VEVENT
DTSTART;TZID=Europe/Berlin:20240531T190000
DTEND;TZID=Europe/Berlin:20240531T223000
DTSTAMP:20260419T172541
CREATED:20240112T172906Z
LAST-MODIFIED:20240112T173716Z
UID:4911-1717182000-1717194600@schloss-blumenfeld.de
SUMMARY:Lange Tafel zum Tag der Nachbarschaft
DESCRIPTION:Am Freitag\, den 31. Mai 2024 ist wieder Tag der Nachbarschaft! Ob bei einer Pflanzaktion\, einem gemeinsamen Spaziergang oder einem Nachbarschaftsfest – am deutschlandweiten Aktionstag kommen jedes Jahr tausende Nachbar:innen zusammen und setzen ein Zeichen für ein offenes und solidarisches Miteinander. \nDer Bürgerverein Schloss Blumenfeld e.V. lädt zu diesem Anlass zur Langen Tafel auf dem Schlossvorplatz ein. Seid dabei und genießt einen Abend am reich gedeckten Tisch\, mit guten Gesprächen und geselligem Beisammensein! Was bringst du mit an die Lange Tafel?
URL:https://schloss-blumenfeld.de/veranstaltung/lange-tafel-zum-tag-der-nachbarschaft/
LOCATION:Schlossvorplatz\, Schlossstraße 12\, Tengen\, 78250\, Deutschland
CATEGORIES:Startseite
ATTACH;FMTTYPE=image/jpeg:https://schloss-blumenfeld.de/wp-content/uploads/2024/01/Tag-der-Nachbarschaft-Blumenfeld.jpg
END:VEVENT
END:VCALENDAR