BEGIN:VCALENDAR
VERSION:2.0
PRODID:-//Schloss Blumenfeld - ECPv6.3.7//NONSGML v1.0//EN
CALSCALE:GREGORIAN
METHOD:PUBLISH
X-WR-CALNAME:Schloss Blumenfeld
X-ORIGINAL-URL:https://schloss-blumenfeld.de
X-WR-CALDESC:Veranstaltungen für Schloss Blumenfeld
REFRESH-INTERVAL;VALUE=DURATION:PT1H
X-Robots-Tag:noindex
X-PUBLISHED-TTL:PT1H
BEGIN:VTIMEZONE
TZID:Europe/Berlin
BEGIN:DAYLIGHT
TZOFFSETFROM:+0100
TZOFFSETTO:+0200
TZNAME:CEST
DTSTART:20260329T010000
END:DAYLIGHT
BEGIN:STANDARD
TZOFFSETFROM:+0200
TZOFFSETTO:+0100
TZNAME:CET
DTSTART:20261025T010000
END:STANDARD
END:VTIMEZONE
BEGIN:VEVENT
DTSTART;TZID=Europe/Berlin:20260426T120000
DTEND;TZID=Europe/Berlin:20260426T150000
DTSTAMP:20260426T013503
CREATED:20260205T222009Z
LAST-MODIFIED:20260424T080102Z
UID:7957-1777204800-1777215600@schloss-blumenfeld.de
SUMMARY:Mystische E-Bike-Führung
DESCRIPTION:Mit Virgin-Power rund um die Einhorn-Stadt Tengen\nHinter den sieben Vulkanen ist mit Höhen-Sicht und Tiefen-Schau ein landschafts-mythologischer Schatz zu bergen: Mit Akku-beflügeltem Radel\, auf den Spuren der heiligen Drei Madel. \nViele Legenden von drei waldschenkenden Jungfrauen sind im Hegau überliefert.  Sie sind Relikte einer einst verbreiteten Drei- Bethen-Verehrung. Rund um den “gekrönten Berg“ oberhalb von Blumenfeld ballt sich diese mystische „Virgin-Power“ mit den „Drei Edelfräulein von Tengen“ und den Neun „Virgines Tengensis“. Seit alters her ist die Jungfrauen–Mystik mit dem heiligen/heilenden Einhorn verbunden\, es ist das Wappentier von Tengen. \nMit dem E-Bike geht es für ca. 3 Stunden auf eine aussichts- und einsichtsreiche landschafts-mythologische Tour. Anschließend ist eine stilvolle Einkehr ins Schloss Café möglich. \nTreffpunkt: Vor dem Schloss Blumenfeld\, Schlossstr. 12 / Preis: 15 € p.P.\nSonntag\, 26. April 2026\, ab 12:00 Uhr (ca. 3 Std.) \nEine Ausleihe von E-Bikes ist am Schloss möglich. \nBitte meldet euch vorher unter veranstaltungen@schloss-blumenfeld.de für die E-Bike-Führung an.
URL:https://schloss-blumenfeld.de/veranstaltung/mystische-e-bike-fuehrung-mit-virgin-power-rund-um-die-einhorn-stadt-tengen/
LOCATION:Schlossvorplatz\, Schlossstraße 12\, Tengen\, 78250\, Deutschland
CATEGORIES:Hegau-Tour
ATTACH;FMTTYPE=image/jpeg:https://schloss-blumenfeld.de/wp-content/uploads/2026/02/MystWeg169.jpg
END:VEVENT
END:VCALENDAR