BEGIN:VCALENDAR
VERSION:2.0
PRODID:-//Schloss Blumenfeld - ECPv6.3.7//NONSGML v1.0//EN
CALSCALE:GREGORIAN
METHOD:PUBLISH
X-WR-CALNAME:Schloss Blumenfeld
X-ORIGINAL-URL:https://schloss-blumenfeld.de
X-WR-CALDESC:Veranstaltungen für Schloss Blumenfeld
REFRESH-INTERVAL;VALUE=DURATION:PT1H
X-Robots-Tag:noindex
X-PUBLISHED-TTL:PT1H
BEGIN:VTIMEZONE
TZID:Europe/Berlin
BEGIN:DAYLIGHT
TZOFFSETFROM:+0100
TZOFFSETTO:+0200
TZNAME:CEST
DTSTART:20260329T010000
END:DAYLIGHT
BEGIN:STANDARD
TZOFFSETFROM:+0200
TZOFFSETTO:+0100
TZNAME:CET
DTSTART:20261025T010000
END:STANDARD
END:VTIMEZONE
BEGIN:VEVENT
DTSTART;TZID=Europe/Berlin:20260421T150000
DTEND;TZID=Europe/Berlin:20260421T170000
DTSTAMP:20260421T015501
CREATED:20251111T135627Z
LAST-MODIFIED:20260312T152806Z
UID:7740-1776783600-1776790800@schloss-blumenfeld.de
SUMMARY:Senior*innen-Nachmittag
DESCRIPTION:Der Bürgerverein Schloss Blumenfeld e.V lädt herzlich alle Seniorinnen und Senioren zu einem gemütlichen Nachmittag bei Kaffee und Kuchen ein. Bei schönem Wetter auf der Schloss Terrasse.\nWie jedes Mal gibt es eine kleine Überraschung in Form von einer Mini-Lesung oder einem lustigen Spiel. \nWir freuen uns auf euch!\nEuer Bürgerverein Schloss Blumenfeld e.V
URL:https://schloss-blumenfeld.de/veranstaltung/seniorinnen-nachmittag-14/
LOCATION:Schlosscafé im Schloss Blumenfeld\, Schlossstraße 12\, Tengen\, 78250\, Deutschland
CATEGORIES:Seniorennachmittag
ATTACH;FMTTYPE=image/jpeg:https://schloss-blumenfeld.de/wp-content/uploads/2023/10/Seniorinnennachmittag_Kuchen.jpg
END:VEVENT
END:VCALENDAR