BEGIN:VCALENDAR
VERSION:2.0
PRODID:-//Schloss Blumenfeld - ECPv6.3.7//NONSGML v1.0//EN
CALSCALE:GREGORIAN
METHOD:PUBLISH
X-ORIGINAL-URL:https://schloss-blumenfeld.de
X-WR-CALDESC:Veranstaltungen für Schloss Blumenfeld
REFRESH-INTERVAL;VALUE=DURATION:PT1H
X-Robots-Tag:noindex
X-PUBLISHED-TTL:PT1H
BEGIN:VTIMEZONE
TZID:Europe/Berlin
BEGIN:DAYLIGHT
TZOFFSETFROM:+0100
TZOFFSETTO:+0200
TZNAME:CEST
DTSTART:20250330T010000
END:DAYLIGHT
BEGIN:STANDARD
TZOFFSETFROM:+0200
TZOFFSETTO:+0100
TZNAME:CET
DTSTART:20251026T010000
END:STANDARD
END:VTIMEZONE
BEGIN:VEVENT
DTSTART;TZID=Europe/Berlin:20250720T143000
DTEND;TZID=Europe/Berlin:20250720T160000
DTSTAMP:20260425T180604
CREATED:20250410T161248Z
LAST-MODIFIED:20250410T161248Z
UID:7191-1753021800-1753027200@schloss-blumenfeld.de
SUMMARY:Schlossführung mit dem Bürgerverein
DESCRIPTION:Die Blumenfelderin Mariele Stiehl führt euch durch die verschiedenen Zeitepochen\, die das Schloss durchlebt hat. Vom Obervogt in der Renaissance über die badische Zeit im 19. Jahrhundert zu 130 Jahre Zweckverband. Für Kaffee und Kuchen ist im Anschluss auch gesorgt – denn das Schlosscafé hat an diesem Termin parallel geöffnet. \n\nWir bitten um Anmeldung per E-Mail unter mariele.stiehl@schloss-blumenfeld.de (bis 3 Tage vorher\, Restplätze ggf. vor Ort). Die Mindestteilnehmerzahl beträgt 5\, max. 12. Treffpunkt ist der Schlossvorplatz. Wir freuen uns auf euch!
URL:https://schloss-blumenfeld.de/veranstaltung/schlossfuehrung-mit-dem-buergerverein-9/
LOCATION:Schloss Blumenfeld\, Schlossstraße 12\, Tengen\, 78250\, Deutschland
CATEGORIES:Schlossführung,Startseite
ATTACH;FMTTYPE=image/jpeg:https://schloss-blumenfeld.de/wp-content/uploads/2024/04/Schlossfuehrung-mit-Mariele.jpg
END:VEVENT
BEGIN:VEVENT
DTSTART;TZID=Europe/Berlin:20250720T160000
DTEND;TZID=Europe/Berlin:20250720T170000
DTSTAMP:20260425T180604
CREATED:20250711T182900Z
LAST-MODIFIED:20250713T174702Z
UID:7399-1753027200-1753030800@schloss-blumenfeld.de
SUMMARY:Detektiv Allegro: Das Kinder-Mitmach-Konzert
DESCRIPTION:Es ist zum Verzweifeln: Überall verschwinden Musiknoten und die Musik selbst in in Gefahr! In Blumenfeld scheint noch alles in Ordnung zu sein – oder doch nicht? \nVielleicht kann Detektiv Allegro das Rätsel lösen.\nUm den seltsamen Vorkommnissen auf die Spur zu kommen\, braucht der Musikverein Bohlingen am Sonntag\, den 20. Juli 2025\, die tatkräftige Unterstützung von vielen Kindern.\nJe mehr Nachwuchs-Detektive kommen und helfen\, umso eher kann das Rätsel gelöst werden. Auch Erwachsene sind bei der Lösung des Falls zur Mithilfe herzlich eingeladen. \nKommt vorbei und werdet Teil dieses musikalischen Abenteuers.\nWir danken Euch jetzt schon für eure wertvolle Unterstützung! \nDer Eintritt ist frei – um Hutspende wird gebeten.
URL:https://schloss-blumenfeld.de/veranstaltung/detektiv-allegro-das-kinder-mitmach-konzert/
LOCATION:Kulturbühne Schloss Blumenfeld\, Schlossstraße 12\, Tengen\, 78250\, Deutschland
CATEGORIES:Kinder,Startseite
ATTACH;FMTTYPE=image/jpeg:https://schloss-blumenfeld.de/wp-content/uploads/2024/02/TUKK-2.jpg
END:VEVENT
END:VCALENDAR