BEGIN:VCALENDAR
VERSION:2.0
PRODID:-//Schloss Blumenfeld - ECPv6.3.7//NONSGML v1.0//EN
CALSCALE:GREGORIAN
METHOD:PUBLISH
X-ORIGINAL-URL:https://schloss-blumenfeld.de
X-WR-CALDESC:Veranstaltungen für Schloss Blumenfeld
REFRESH-INTERVAL;VALUE=DURATION:PT1H
X-Robots-Tag:noindex
X-PUBLISHED-TTL:PT1H
BEGIN:VTIMEZONE
TZID:Europe/Berlin
BEGIN:DAYLIGHT
TZOFFSETFROM:+0100
TZOFFSETTO:+0200
TZNAME:CEST
DTSTART:20250330T010000
END:DAYLIGHT
BEGIN:STANDARD
TZOFFSETFROM:+0200
TZOFFSETTO:+0100
TZNAME:CET
DTSTART:20251026T010000
END:STANDARD
END:VTIMEZONE
BEGIN:VEVENT
DTSTART;TZID=Europe/Berlin:20250712T193000
DTEND;TZID=Europe/Berlin:20250712T220000
DTSTAMP:20260425T180855
CREATED:20250409T110220Z
LAST-MODIFIED:20250409T111130Z
UID:7156-1752348600-1752357600@schloss-blumenfeld.de
SUMMARY:Homecoming-Konzert mit Dunkelgrün (aka Marius Helber)
DESCRIPTION:Dunkelgrün x Mietzi Records x Schloss Blumenfeld präsentieren: Dunkelgrün (aka Marius Helber)! \nManche Abende brauchen kein großes Konzept. Nur gute Menschen\, ehrliche Musik – und einen Ort\, der etwas bedeutet. \nWenn Geschichten zurückkehren\, wo sie einst begannen – wenn ein Innenhof sich füllt mit alten Bekannten\, neuen Liedern und einem Gefühl von „genau hier“ – dann ist vielleicht Homecoming. Dunkelgrün\, das Soloprojekt von Marius Helber\, ist genau das: persönlich\, ehrlich\, nah. 2023 stand Marius als Teil seiner damaligen Band auf unserer Bühne – beim Auftakt der Hofkonzerte-Saison. Zwei Jahre später kehrt er zurück: unter dem Namen Dunkelgrün\, solo unterwegs\, mit Mietzi Records im Rücken und einem liebevoll kuratierten Set aus ausgewählten Coversongs. Tiefgründige Texte\, persönliche Favoriten\, neu interpretiert – mit eigenem Twist und ganz viel Gefühl.\nFür das letzte Konzert seiner Sommertour kehrt er zurück an den Ort\, an dem alles seinen Anfang nahm. \n\nAlles endet\, aber nie die Musik.\nDas war immer der Plan – bis jetzt.\nAlleine\, aber doch mit ganzer Band im Gepäck\, geht Dunkelgrün auf die Bühne\,\num herauszufinden\, ob da noch etwas ist – oder ob es Zeit wird\, loszulassen.\nZwischen melancholischem Indie-Pop-Rock und lauten\, ehrlichen Momenten\nstellt er sich der größten Angst: Was\, wenn das hier alles war? \nEin Konzert zwischen Innen und Außen\, zwischen Jetzt und Vielleicht.\nZwischen Schlossmauern\, Lichterketten und Sommerluft. \nKommt vorbei! Der Eintritt ist frei – denn Musik ist am schönsten\, wenn man sie teilt.\nEinlass: 19:30 Uhr | Beginn: 20:00 Uhr
URL:https://schloss-blumenfeld.de/veranstaltung/homecoming-konzert-mit-dunkelgruen-aka-marius-helber/
LOCATION:Kulturbühne Schloss Blumenfeld\, Schlossstraße 12\, Tengen\, 78250\, Deutschland
CATEGORIES:Hofkonzerte,Startseite
ATTACH;FMTTYPE=image/jpeg:https://schloss-blumenfeld.de/wp-content/uploads/2025/04/Hofkonzert-mit-DUNKELGRUeN.jpg
END:VEVENT
END:VCALENDAR