BEGIN:VCALENDAR
VERSION:2.0
PRODID:-//Schloss Blumenfeld - ECPv6.3.7//NONSGML v1.0//EN
CALSCALE:GREGORIAN
METHOD:PUBLISH
X-ORIGINAL-URL:https://schloss-blumenfeld.de
X-WR-CALDESC:Veranstaltungen für Schloss Blumenfeld
REFRESH-INTERVAL;VALUE=DURATION:PT1H
X-Robots-Tag:noindex
X-PUBLISHED-TTL:PT1H
BEGIN:VTIMEZONE
TZID:Europe/Berlin
BEGIN:DAYLIGHT
TZOFFSETFROM:+0100
TZOFFSETTO:+0200
TZNAME:CEST
DTSTART:20250330T010000
END:DAYLIGHT
BEGIN:STANDARD
TZOFFSETFROM:+0200
TZOFFSETTO:+0100
TZNAME:CET
DTSTART:20251026T010000
END:STANDARD
END:VTIMEZONE
BEGIN:VEVENT
DTSTART;TZID=Europe/Berlin:20250627T193000
DTEND;TZID=Europe/Berlin:20250627T220000
DTSTAMP:20260425T180839
CREATED:20250225T103016Z
LAST-MODIFIED:20250225T103731Z
UID:6952-1751052600-1751061600@schloss-blumenfeld.de
SUMMARY:Hofkonzert mit RasgaRasga
DESCRIPTION:Schloss Blumenfeld & Mietzi Records präsentieren: RasgaRasga live!  \nRasgaRasga sind pure Energie. Sechs musikalische Grenzgänger*innen\, zwölf Instrumente und ein authentischer\, tanzbarer Vibe – einer Stromschnelle gleich tragen RasgaRasga ihr Publikum an einen bunten\, glitzernden Ort. Einen Ort des Sich-Fallenlassens\, des Miteinanders und des Moments. In ihrem neuen Programm „HELIO“ drücken sie ihren Herzschlag\, ihre Stimmungen\, Visionen und Gefühle aus. Mit fesselnden Vocals und einer brachial schillernden Wand aus akustischen Elementen kreiert die Band ihren ganz eigenen Indie-Pop\, geprägt von spannenden Genreverschmelzungen und transkulturellen Einflüssen. Dabei entsteht ein energiegeladener Sog\, der das Publikum mitreißt und auf die Tanzfläche zieht – pure musikalische Leidenschaft und ein Live-Erlebnis\, das in Erinnerung bleibt. \nSeit 2023 stehen wir mit RasgaRasga im Austausch – und diesen Sommer ist es endlich soweit: Wir tanzen zusammen im Schloss Blumenfeld! Die Band und ihr vielseitiges Setup könnten dabei kein schöneres Symbol für das Schloss sein: Ein Ort\, an dem unterschiedliche Menschen\, Klänge und Geschichten aufeinandertreffen und etwas Einzigartiges\, ja Gigantisches entsteht. So wie RasgaRasga mit ihrer musikalischen Vielfalt einen Sog erzeugen\, der das Publikum mitreißt\, so lebt auch das Schloss von den Begegnungen\, den Momenten und der Energie\, die hier zusammenkommt. Weitersagen und Freunde einpacken – lohnt sich\, versprochen! \nHier könnt ihr schon mal reinhören. \nTickets: ab sofort über Eventbrite\nEinlass: 19:30 Uhr | Beginn: 20:00 Uhr \nSollte das Konzert wetterbedingt nicht stattfinden können\, verlegen wir es in die Innenräume des Schlosses oder auf ein anderes Datum. Die Tickets behalten in jedem Fall ihre Gültigkeit. Ihr unterstützt uns durch einen frühzeitigen Ticketkauf sehr – danke! Lasst uns gemeinsam tanzen – wir freuen uns auf euch!
URL:https://schloss-blumenfeld.de/veranstaltung/hofkonzert-mit-rasgarasga/
LOCATION:Kulturbühne Schloss Blumenfeld\, Schlossstraße 12\, Tengen\, 78250\, Deutschland
CATEGORIES:Hofkonzerte,Startseite
ATTACH;FMTTYPE=image/jpeg:https://schloss-blumenfeld.de/wp-content/uploads/2025/02/Hofkonzert-mit-RasgaRasga.jpg
END:VEVENT
END:VCALENDAR