BEGIN:VCALENDAR
VERSION:2.0
PRODID:-//Schloss Blumenfeld - ECPv6.3.7//NONSGML v1.0//EN
CALSCALE:GREGORIAN
METHOD:PUBLISH
X-WR-CALNAME:Schloss Blumenfeld
X-ORIGINAL-URL:https://schloss-blumenfeld.de
X-WR-CALDESC:Veranstaltungen für Schloss Blumenfeld
REFRESH-INTERVAL;VALUE=DURATION:PT1H
X-Robots-Tag:noindex
X-PUBLISHED-TTL:PT1H
BEGIN:VTIMEZONE
TZID:Europe/Berlin
BEGIN:DAYLIGHT
TZOFFSETFROM:+0100
TZOFFSETTO:+0200
TZNAME:CEST
DTSTART:20250330T010000
END:DAYLIGHT
BEGIN:STANDARD
TZOFFSETFROM:+0200
TZOFFSETTO:+0100
TZNAME:CET
DTSTART:20251026T010000
END:STANDARD
END:VTIMEZONE
BEGIN:VEVENT
DTSTART;TZID=Europe/Berlin:20250624T150000
DTEND;TZID=Europe/Berlin:20250624T170000
DTSTAMP:20260425T162419
CREATED:20240108T193257Z
LAST-MODIFIED:20250703T095738Z
UID:4821-1750777200-1750784400@schloss-blumenfeld.de
SUMMARY:Senior*innen-Nachmittag
DESCRIPTION:Der Bürgerverein Schloss Blumenfeld e.V lädt herzlich alle Seniorinnen und Senioren zu einem gemütlichen Nachmittag bei Kaffee und Kuchen ein. Bei schönem Wetter auf der Schloss Terrasse.\nWie jedes Mal gibt es eine kleine Überraschung in Form von einer Mini-Lesung oder einem lustigen Spiel. \nWir freuen uns auf euch!\nEuer Bürgerverein Schloss Blumenfeld e.V
URL:https://schloss-blumenfeld.de/veranstaltung/seniorinnen-nachmittag/
LOCATION:Schlosscafé im Schloss Blumenfeld\, Schlossstraße 12\, Tengen\, 78250\, Deutschland
CATEGORIES:Seniorennachmittag,Startseite
ATTACH;FMTTYPE=image/jpeg:https://schloss-blumenfeld.de/wp-content/uploads/2023/10/Seniorinnennachmittag_Kuchen-1.jpg
END:VEVENT
END:VCALENDAR