BEGIN:VCALENDAR
VERSION:2.0
PRODID:-//Schloss Blumenfeld - ECPv6.3.7//NONSGML v1.0//EN
CALSCALE:GREGORIAN
METHOD:PUBLISH
X-ORIGINAL-URL:https://schloss-blumenfeld.de
X-WR-CALDESC:Veranstaltungen für Schloss Blumenfeld
REFRESH-INTERVAL;VALUE=DURATION:PT1H
X-Robots-Tag:noindex
X-PUBLISHED-TTL:PT1H
BEGIN:VTIMEZONE
TZID:Europe/Berlin
BEGIN:DAYLIGHT
TZOFFSETFROM:+0100
TZOFFSETTO:+0200
TZNAME:CEST
DTSTART:20250330T010000
END:DAYLIGHT
BEGIN:STANDARD
TZOFFSETFROM:+0200
TZOFFSETTO:+0100
TZNAME:CET
DTSTART:20251026T010000
END:STANDARD
END:VTIMEZONE
BEGIN:VEVENT
DTSTART;TZID=Europe/Berlin:20250620T190000
DTEND;TZID=Europe/Berlin:20250620T230000
DTSTAMP:20260425T162655
CREATED:20230407T210837Z
LAST-MODIFIED:20250616T091857Z
UID:3610-1750446000-1750460400@schloss-blumenfeld.de
SUMMARY:Feierabendhock: Lagerfeuer-Special
DESCRIPTION:Was könnte schöner sein\, als an einem lauen Sommerabend gemeinsam am Lagerfeuer zu sitzen? Wir machen es uns an der Feuerschale im Schlossgarten gemütlich\, erzählen Geschichten und lassen die Woche entspannt ausklingen. \nDer Feierabendhock beginnt um 19 Uhr. Wir freuen uns auf euch!
URL:https://schloss-blumenfeld.de/veranstaltung/feierabendhock-7/
LOCATION:Schlosscafé im Schloss Blumenfeld\, Schlossstraße 12\, Tengen\, 78250\, Deutschland
CATEGORIES:Feierabendhock,Startseite
ATTACH;FMTTYPE=image/jpeg:https://schloss-blumenfeld.de/wp-content/uploads/2023/04/Feuerkorb-im-Schlossgarten.jpg
END:VEVENT
END:VCALENDAR