BEGIN:VCALENDAR
VERSION:2.0
PRODID:-//Schloss Blumenfeld - ECPv6.3.7//NONSGML v1.0//EN
CALSCALE:GREGORIAN
METHOD:PUBLISH
X-WR-CALNAME:Schloss Blumenfeld
X-ORIGINAL-URL:https://schloss-blumenfeld.de
X-WR-CALDESC:Veranstaltungen für Schloss Blumenfeld
REFRESH-INTERVAL;VALUE=DURATION:PT1H
X-Robots-Tag:noindex
X-PUBLISHED-TTL:PT1H
BEGIN:VTIMEZONE
TZID:Europe/Berlin
BEGIN:DAYLIGHT
TZOFFSETFROM:+0100
TZOFFSETTO:+0200
TZNAME:CEST
DTSTART:20250330T010000
END:DAYLIGHT
BEGIN:STANDARD
TZOFFSETFROM:+0200
TZOFFSETTO:+0100
TZNAME:CET
DTSTART:20251026T010000
END:STANDARD
END:VTIMEZONE
BEGIN:VEVENT
DTSTART;VALUE=DATE:20250606
DTEND;VALUE=DATE:20250610
DTSTAMP:20260425T162306
CREATED:20250214T152908Z
LAST-MODIFIED:20250407T175506Z
UID:6854-1749168000-1749513599@schloss-blumenfeld.de
SUMMARY:Yogaretreat: Low-Budget-Retreat
DESCRIPTION:Für alle\, die sich latent gestresst\, unterfordert oder unausgeglichen fühlen….\n\n\n\n\nBeim Yogaretreat auf Schloss Blumenfeld kannst du dich neu aufstellen und deinen Akku aufladen. Mit einer Kombination aus Yoga\, inspirierendem Coaching\, Meditationen\, Schlossmagie und Natur katapultieren wir dich zurück in deine Mitte. \n\nWas dich erwartet: \n\nTägliche Yoga-Sessions\, die auf deine Bedürfnisse abgestimmt sind\, egal ob Anfängerin oder Fortgeschrittener\nAchtsame Meditationen \nYoga-Coaching\, das dir hilft\, alte Muster aufzudecken und neuen Schwung in dein Leben zu bringen\nNaturverbundene Spaziergänge durch die idyllische Landschaft rund um das Schloss\ngesunde und ausgewogene vegetarische/vegane Mahlzeiten\n\nNach dem Wochenende kommst du mit neuer Energie\, nem klaren Kopf und ’ner ordentlichen Portion Entspannung zurück! \nProgramm von Freitag 06.06.25 ab 16 Uhr\, Abreise am Montag 09.06.25 ab 13 Uhr \nThema: Yoga ist für alle da!\nEin Retreat\, das sich auch Studis & Co leisten können. \n\n3 Übernachtungen im Doppelzimmer\nGemeinschaftliches Kochen\n6 Yoga-Einheiten und ganz viel Selbsterkundung oder Austausch in der Gruppe (je nach Wunsch)\n\nPreis:\nFrühbucher (bis zum 15.04.25): 340 €\nDanach: 390 € \nMehr Informationen findest du hier.\nFür Anmeldungen oder Rückfragen wende dich gerne direkt an Silke unter: silke@yogahalber.de
URL:https://schloss-blumenfeld.de/veranstaltung/yogaretreat-low-budget-retreat/
LOCATION:Schloss Blumenfeld\, Schlossstraße 12\, Tengen\, 78250\, Deutschland
CATEGORIES:Seminar,Startseite
ATTACH;FMTTYPE=image/jpeg:https://schloss-blumenfeld.de/wp-content/uploads/2025/02/Design-ohne-Titel-4.jpg
ORGANIZER;CN="Silke Buchner":MAILTO:silke@yogahalber.de
END:VEVENT
BEGIN:VEVENT
DTSTART;TZID=Europe/Berlin:20250606T190000
DTEND;TZID=Europe/Berlin:20250606T230000
DTSTAMP:20260425T162306
CREATED:20230407T212759Z
LAST-MODIFIED:20241222T203502Z
UID:3619-1749236400-1749250800@schloss-blumenfeld.de
SUMMARY:Feierabendhock mit Kreativwerkstatt #3
DESCRIPTION:Heute geht’s um Natur! Wir begrüßen Silke bei uns. Sie wird mit uns aus Naturmaterialien Kränze für zu Hause binden. \nVorkenntnisse sind nicht erforderlich\, mitmachen kann jede*r\, der oder die Lust und Freude an Farbe hat. Falls du lieber an einem eigenen Projekt werkeln möchtest\, bring gerne dein aktuelles Strick-\, Bastel- oder sonstiges Projekt mit und lass dich von der geschäftigen Atmosphäre und anderen kreativen Köpfen inspirieren. Wir freuen uns\, wenn du dabei bist! \nDer Feierabendhock beginnt um 19 Uhr. Wir freuen uns auf einen bunten und kreativen Abend mit euch! \nPS: Wie gewohnt kannst du auch ohne kreativ zu werden einfach zu einem Feierabendgetränk und guten Gesprächen vorbeikommen.
URL:https://schloss-blumenfeld.de/veranstaltung/feierabendhock-9/
LOCATION:Schlosscafé im Schloss Blumenfeld\, Schlossstraße 12\, Tengen\, 78250\, Deutschland
CATEGORIES:Feierabendhock,Startseite
ATTACH;FMTTYPE=image/jpeg:https://schloss-blumenfeld.de/wp-content/uploads/2023/09/Schlossmanufaktur_Inga-Mahlstaedt-scaled.jpg
END:VEVENT
END:VCALENDAR