BEGIN:VCALENDAR
VERSION:2.0
PRODID:-//Schloss Blumenfeld - ECPv6.3.7//NONSGML v1.0//EN
CALSCALE:GREGORIAN
METHOD:PUBLISH
X-WR-CALNAME:Schloss Blumenfeld
X-ORIGINAL-URL:https://schloss-blumenfeld.de
X-WR-CALDESC:Veranstaltungen für Schloss Blumenfeld
REFRESH-INTERVAL;VALUE=DURATION:PT1H
X-Robots-Tag:noindex
X-PUBLISHED-TTL:PT1H
BEGIN:VTIMEZONE
TZID:Europe/Berlin
BEGIN:DAYLIGHT
TZOFFSETFROM:+0100
TZOFFSETTO:+0200
TZNAME:CEST
DTSTART:20250330T010000
END:DAYLIGHT
BEGIN:STANDARD
TZOFFSETFROM:+0200
TZOFFSETTO:+0100
TZNAME:CET
DTSTART:20251026T010000
END:STANDARD
END:VTIMEZONE
BEGIN:VEVENT
DTSTART;TZID=Europe/Berlin:20250601T110000
DTEND;TZID=Europe/Berlin:20250601T180000
DTSTAMP:20260425T131039
CREATED:20241202T202606Z
LAST-MODIFIED:20250419T202447Z
UID:6437-1748775600-1748800800@schloss-blumenfeld.de
SUMMARY:Wein im Schloss #4
DESCRIPTION:Die kleine\, aber feine Weinmesse im Hegau mit Livemusik und Rahmenprogramm im Schloss Blumenfeld! \nBereits zum 4. Mal lädt das Weinlädele Bäurer gemeinsam mit der Stadt Tengen und dem Schloss Blumenfeld zu „Wein im Schloss“ ein. Von 11 bis 18 Uhr verwandeln sich der Innenhof und die historischen Mauern des Schlosses in eine Oase für Weinliebhaber:innen und Genießer:innen. \nDas Programm im Überblick:11:00 Uhr: Messebeginn & Schlosscafé öffnet11:30 Uhr: Livemusik mit Miriam Gehringer12:30 Uhr: Offizielle Eröffnung mit Weinprinzessin Lena Frank\, OV Thomas Wetzstein\, Bettina & Rolf Bäurer14:30 Uhr: Auftritt der Tanzgruppe Gallinas Locas15:00 Uhr: Livemusik mit der Bari-Combo aus Riedöschingen \nMehr als eine Weinmesse„Wein im Schloss“ ist mehr als eine Weinmesse: Es ist Treffpunkt\, Entdeckerparadies und für viele inzwischen schon Tradition. Rund 15 Ausstellerinnen präsentieren verschiedene Tropfen – von regionalen Weinanbaugebieten bis hin zu Winzerinnen\, die ganz bewusst einen längeren Weg für die familiäre und super einladende Atmosphäre der Veranstaltung auf sich nehmen. Im Gewölbe des Schlosscafés begeistert die Familie Mottillo mit italienischen Weinen\, Balsamico und Olivenöl. Für eine süße Pause bietet das Schlosscafé im einladenden Außenbereich Kaffee\, Kuchen\, Eis aus der Region und erfrischende Kaltgetränke. \nMusik & Kulinarik: Ein Fest für die SinneFür die musikalische Begleitung sorgt die „Bari-Combo“ aus Riedöschingen im Schlosshof – tanzen und genießen ausdrücklich erwünscht! Im historischen Teil des Schlosses wird es ebenfalls wieder Stände geben\, nachdem die ursprüngliche Schlecht-Wetter-Lösung von 2024 auf so viel Zuspruch stieß. Hier sorgt die Blumberger Sängerin Miriam Gehringer für musikalische Begleitung. \nPraktische HinweiseAm Einlass ist ein Glaspfand in Höhe von 5 € bereitzuhalten. Parkplätze sind ausreichend vorhanden\, auch mit der Möglichkeit\, das Auto über Nacht stehenzulassen. Alternativ empfehlen wir die Anreise mit den öffentlichen Verkehrsmitteln. Wenn ihr Lust habt\, gleich ein ganzes Wochenende im Hegau zu verbringen\, könnt ihr eines der liebevoll eingerichteten Gästezimmer im Schloss mieten und damit das Gesamtprojekt Schloss Blumenfeld auf dem Weg von der Zwischennutzung in die Verstetigung unterstützen. \nTickets & InfosVorverkauf: 12 €Tageskasse: 15 €Kinder und Jugendliche bis einschließlich 15 Jahre: freier Eintritt \n			\n				Jetzt Ticket sichern\n			\n				\n				\n				\n				\n				  \nWeitere Verkaufsstellen in der Region \n\n\n\nRathaus Tengen\, Marktstr. 1\, 78250 Tengen (Mo-Do 8.30-12 Uhr\, Do 14-18 Uhr)\nSchlosscafé Schloss Blumenfeld\, Schlossstr. 12\, 78250 Tengen (i.d.R. 14-tägig\, sonntags 14 – 17 Uhr)\nWeinlädele Bäurer\, Blumberger Str. 10a\, 78176 Blumberg\, Tel: +497702419001\, Mail: info@wein-baeurer.de\nBäckerei Knöpfle\, Tevesstr. 60\, 78176 Blumberg (Mo-Fr 6:00-18:30 Uhr\, Sa 6:00-12:30 Uhr\, So 7:30-10:30 Uhr)\n\n\n\nAussteller*innen \n\n\n\nAzienda Agricola Terre Maddalena die Piazza Angelo – Italien\, Veneto\nBäckerei Knöpfle – Blumberg\nBurkheimer Winzer am Kaiserstuhl – Baden\, Kaiserstuhl\nCastello di Roncade – Roncade\, Veneto\, Italien\nCollegium Wirtemberg – Württemberg\nGenossenschaftskellerei Heilbronn WG – Württemberg\nMottillo Feinkost – Villingen-Schwenningen\nSasbacher Winzerkeller – Baden\, Kaiserstuhl\nSenft Destillerie – Rheinhessen\nWeingut Herztal – Baden\, Ortenau\nWeingut Julius Zotz – Baden\, Markgräflerland\nWeingut Lorenz & Corina Keller – Baden\, Bodensee\nWeingut Rebholz – Baden\, Bodensee\nWeingut Wieland – Württemberg\nWeinbauer Gerd Keller Einfach Wein – Württemberg\nWinzerverein Meersburg – Baden\, Bodensee\n\n\n\nNEU: Wine & Dine – Das exklusive Vorabend-Event \n\n\n\nAm Samstag\, 31. Mai 2025 laden das Weinlädele Bäurer und das Landhaus Waldfrieden in Tengen erstmals zu einem stilvollen „Wine & Dine“-Abend ein: Ein mehrgängiges Menü mit korrespondierenden Weinen sorgt für einen genussvollen Auftakt zum Veranstaltungswochenende.\nDie Plätze sind limitiert (109 € p.P.) – bitte vorab reservieren!\nInfos & Buchung unter: www.landhaus-waldfrieden.de
URL:https://schloss-blumenfeld.de/veranstaltung/wein-im-schloss-4/
LOCATION:Schloss Blumenfeld\, Schlossstraße 12\, Tengen\, 78250\, Deutschland
CATEGORIES:Startseite
ATTACH;FMTTYPE=image/jpeg:https://schloss-blumenfeld.de/wp-content/uploads/2023/04/WeinimSchloss_2023.jpg
END:VEVENT
END:VCALENDAR