BEGIN:VCALENDAR
VERSION:2.0
PRODID:-//Schloss Blumenfeld - ECPv6.3.7//NONSGML v1.0//EN
CALSCALE:GREGORIAN
METHOD:PUBLISH
X-WR-CALNAME:Schloss Blumenfeld
X-ORIGINAL-URL:https://schloss-blumenfeld.de
X-WR-CALDESC:Veranstaltungen für Schloss Blumenfeld
REFRESH-INTERVAL;VALUE=DURATION:PT1H
X-Robots-Tag:noindex
X-PUBLISHED-TTL:PT1H
BEGIN:VTIMEZONE
TZID:Europe/Berlin
BEGIN:DAYLIGHT
TZOFFSETFROM:+0100
TZOFFSETTO:+0200
TZNAME:CEST
DTSTART:20250330T010000
END:DAYLIGHT
BEGIN:STANDARD
TZOFFSETFROM:+0200
TZOFFSETTO:+0100
TZNAME:CET
DTSTART:20251026T010000
END:STANDARD
END:VTIMEZONE
BEGIN:VEVENT
DTSTART;TZID=Europe/Berlin:20250515T193000
DTEND;TZID=Europe/Berlin:20250515T220000
DTSTAMP:20260424T231659
CREATED:20250131T141658Z
LAST-MODIFIED:20250225T104011Z
UID:6748-1747337400-1747346400@schloss-blumenfeld.de
SUMMARY:Hofkonzert mit Soë Blue
DESCRIPTION:Schloss Blumenfeld & Mietzi Records präsentieren: Soë Blue live! \nErlebt einen unvergesslichen Abend mit der talentierten Zürcher Singer-Songwriterin Soë Blue! Mit ihrer einzigartigen Mischung aus souligen Klängen\, tiefgehenden Texten und einer ausdrucksstarken Stimme nimmt sie das Publikum mit auf eine emotionale Reise. Ihre Songs erzählen von Liebe\, Schicksalsschlägen und Selbstfindung – Themen\, die unter die Haut gehen. Vergangenes Jahr hat Soë Blue eine Reihe neuer Songs veröffentlicht\, die sie in Nashville\, Tennessee aufgenommen hat. Mit Entschlossenheit hat sie sich in der Schweizer Musikszene einen Namen gemacht und begeistert mit ihrer authentischen Performance. \nDie Hofkonzerte gehen 2025 bereits in die fünfte Saison! Als Tradition eröffnen wir die Reihe mit Künstler*innen aus der Region – und freuen uns\, dieses Netzwerk immer weiter zu spinnen. In diesem Jahr dürfen wir erstmals eine Schweizer Künstlerin bei uns begrüßen und freuen uns sehr auf diesen besonderen Auftakt mit Soë Blue! \nHier könnt ihr schon mal reinhören. \nTickets: ab sofort über Eventbrite\nEinlass: 19:30 Uhr | Beginn: 20:00 Uhr \nSollte das Konzert wetterbedingt nicht stattfinden können\, verlegen wir es in die Innenräume des Schlosses oder auf ein anderes Datum. Die Tickets behalten in jedem Fall ihre Gültigkeit. Ihr unterstützt uns durch einen frühzeitigen Ticketkauf sehr – danke! Lasst euch diesen besonderen Abend nicht entgehen – wir freuen uns auf euch!
URL:https://schloss-blumenfeld.de/veranstaltung/hofkonzert-mit-soe-blue/
LOCATION:Kulturbühne Schloss Blumenfeld\, Schlossstraße 12\, Tengen\, 78250\, Deutschland
CATEGORIES:Hofkonzerte,Startseite
ATTACH;FMTTYPE=image/jpeg:https://schloss-blumenfeld.de/wp-content/uploads/2025/01/Hofkonzert-mit-Soe-Blue.jpg
END:VEVENT
END:VCALENDAR