BEGIN:VCALENDAR
VERSION:2.0
PRODID:-//Schloss Blumenfeld - ECPv6.3.7//NONSGML v1.0//EN
CALSCALE:GREGORIAN
METHOD:PUBLISH
X-WR-CALNAME:Schloss Blumenfeld
X-ORIGINAL-URL:https://schloss-blumenfeld.de
X-WR-CALDESC:Veranstaltungen für Schloss Blumenfeld
REFRESH-INTERVAL;VALUE=DURATION:PT1H
X-Robots-Tag:noindex
X-PUBLISHED-TTL:PT1H
BEGIN:VTIMEZONE
TZID:Europe/Berlin
BEGIN:DAYLIGHT
TZOFFSETFROM:+0100
TZOFFSETTO:+0200
TZNAME:CEST
DTSTART:20250330T010000
END:DAYLIGHT
BEGIN:STANDARD
TZOFFSETFROM:+0200
TZOFFSETTO:+0100
TZNAME:CET
DTSTART:20251026T010000
END:STANDARD
END:VTIMEZONE
BEGIN:VEVENT
DTSTART;TZID=Europe/Berlin:20250509T190000
DTEND;TZID=Europe/Berlin:20250509T230000
DTSTAMP:20260424T170940
CREATED:20230407T213340Z
LAST-MODIFIED:20241222T203355Z
UID:3623-1746817200-1746831600@schloss-blumenfeld.de
SUMMARY:Feierabendhock mit Lesung
DESCRIPTION:Wie ihr wisst\, hat Thomas bereits ein Buch geschrieben. Nun folgt sein zweites: „Meine 80er-Jahre – nicht witzig\, aber lustig.“ \nJeder hat das Jahrzehnt zwischen 13 und 23 erlebt\, da passiert sehr viel. Bei Thomas war es zufällig in den 80ern und darum besonders lustig. Sei gespannt\, was er alles zu erzählen hat! \nDer Feierabendhock beginnt um 19 Uhr. Wenn du die Lesung nicht verpassen willst\, solltest du spätestens um 19: 20 Uhr da sein. Wir freuen uns auf euch!
URL:https://schloss-blumenfeld.de/veranstaltung/feierabendhock-10/
LOCATION:Schlosscafé im Schloss Blumenfeld\, Schlossstraße 12\, Tengen\, 78250\, Deutschland
CATEGORIES:Feierabendhock,Startseite
ATTACH;FMTTYPE=image/jpeg:https://schloss-blumenfeld.de/wp-content/uploads/2023/10/Literaturherbst_auf-Schloss-Blumenfeld.jpg
END:VEVENT
END:VCALENDAR