BEGIN:VCALENDAR
VERSION:2.0
PRODID:-//Schloss Blumenfeld - ECPv6.3.7//NONSGML v1.0//EN
CALSCALE:GREGORIAN
METHOD:PUBLISH
X-WR-CALNAME:Schloss Blumenfeld
X-ORIGINAL-URL:https://schloss-blumenfeld.de
X-WR-CALDESC:Veranstaltungen für Schloss Blumenfeld
REFRESH-INTERVAL;VALUE=DURATION:PT1H
X-Robots-Tag:noindex
X-PUBLISHED-TTL:PT1H
BEGIN:VTIMEZONE
TZID:Europe/Berlin
BEGIN:DAYLIGHT
TZOFFSETFROM:+0100
TZOFFSETTO:+0200
TZNAME:CEST
DTSTART:20250330T010000
END:DAYLIGHT
BEGIN:STANDARD
TZOFFSETFROM:+0200
TZOFFSETTO:+0100
TZNAME:CET
DTSTART:20251026T010000
END:STANDARD
END:VTIMEZONE
BEGIN:VEVENT
DTSTART;TZID=Europe/Berlin:20250420T140000
DTEND;TZID=Europe/Berlin:20250420T170000
DTSTAMP:20260424T140047
CREATED:20240108T201638Z
LAST-MODIFIED:20241224T093912Z
UID:4823-1745157600-1745168400@schloss-blumenfeld.de
SUMMARY:Osterlesung für Kinder
DESCRIPTION:Zum Ostersonntag gibt es eine schon fast traditionelle Schloss-Überraschung für Klein und Groß! \nSchauspielerin und Vorsitzende vom Bürgerverein Schloss Blumenfeld e.V. Dina Roos-Kühling liest ab 15 Uhr Ostergeschichten im Gewölbe. Dazu erwartet euch hausgemachter Kuchen und bei schönem Wetter öffnen wir sogar den Außenbereich. Wir freuen uns auf euch!
URL:https://schloss-blumenfeld.de/veranstaltung/ostersonntag-special-im-schlosscafe/
LOCATION:Schlosscafé im Schloss Blumenfeld\, Schlossstraße 12\, Tengen\, 78250\, Deutschland
CATEGORIES:Kinder,Startseite
ATTACH;FMTTYPE=image/jpeg:https://schloss-blumenfeld.de/wp-content/uploads/2024/01/Lesung-mit-Dina.jpg
END:VEVENT
END:VCALENDAR