BEGIN:VCALENDAR
VERSION:2.0
PRODID:-//Schloss Blumenfeld - ECPv6.3.7//NONSGML v1.0//EN
CALSCALE:GREGORIAN
METHOD:PUBLISH
X-WR-CALNAME:Schloss Blumenfeld
X-ORIGINAL-URL:https://schloss-blumenfeld.de
X-WR-CALDESC:Veranstaltungen für Schloss Blumenfeld
REFRESH-INTERVAL;VALUE=DURATION:PT1H
X-Robots-Tag:noindex
X-PUBLISHED-TTL:PT1H
BEGIN:VTIMEZONE
TZID:Europe/Berlin
BEGIN:DAYLIGHT
TZOFFSETFROM:+0100
TZOFFSETTO:+0200
TZNAME:CEST
DTSTART:20250330T010000
END:DAYLIGHT
BEGIN:STANDARD
TZOFFSETFROM:+0200
TZOFFSETTO:+0100
TZNAME:CET
DTSTART:20251026T010000
END:STANDARD
END:VTIMEZONE
BEGIN:VEVENT
DTSTART;TZID=Europe/Berlin:20250413T133000
DTEND;TZID=Europe/Berlin:20250413T153000
DTSTAMP:20260424T140155
CREATED:20250214T143121Z
LAST-MODIFIED:20250215T200605Z
UID:6836-1744551000-1744558200@schloss-blumenfeld.de
SUMMARY:WunderWalk rund um Schloss Blumenfeld
DESCRIPTION:Wir laden euch zu einem besonderen WunderWalk ein! Dieser Spaziergang bietet die Möglichkeit\, Erinnerungen zu teilen\, die euch mit dem Schloss Blumenfeld verbinden.  \nGemeinsam mit Toby Mayra\, Autor und Sozialarbeiter aus Hamburg\, werden wir zu euren Lieblingsorten rund um das Schloss wandern. Hier habt ihr die Gelegenheit\, von euren schönsten oder auch traurigen Erinnerungen zu erzählen. Alle Erinnerungen sind willkommen\, egal wie unterschiedlich sie sind. \n„Alle hier haben Erinnerungen\, die mit Schloss Blumenfeld verknüpft sind. Wir möchten einen Raum schaffen für diese Erinnerungen“\, erklärt Toby Mayra\, „denn wenn wir diesen Ort für die Zukunft gestalten wollen\, dann ist es äußerst sinnvoll\, die Erinnerungen und Emotionen\, die mit diesem Ort verknüpft sind\, einzubeziehen.  Aus den Erinnerungen heraus lässt sich Zukunft gestalten.“ \nDer Treffpunkt für den Spaziergang ist am Brunnen auf dem Schlossvorplatz. Die Teilnahme an diesem WunderWalk ist kostenlos\, wir freuen uns über Spenden an den Bürgerverein Schloss Blumenfeld. Nach dem Spaziergang (ca. 2 Stunden) besteht die Möglichkeit gemeinsam in das Schlosscafé einzukehren. \nWir freuen uns auf all eure Geschichten!
URL:https://schloss-blumenfeld.de/veranstaltung/wunderwalk-rund-um-schloss-blumenfeld/
LOCATION:Schlossvorplatz\, Schlossstraße 12\, Tengen\, 78250\, Deutschland
CATEGORIES:Diverses,Startseite
ATTACH;FMTTYPE=image/jpeg:https://schloss-blumenfeld.de/wp-content/uploads/2023/06/Schlossfuehrung_Stadt-Tengen.jpg
END:VEVENT
END:VCALENDAR