BEGIN:VCALENDAR
VERSION:2.0
PRODID:-//Schloss Blumenfeld - ECPv6.3.7//NONSGML v1.0//EN
CALSCALE:GREGORIAN
METHOD:PUBLISH
X-WR-CALNAME:Schloss Blumenfeld
X-ORIGINAL-URL:https://schloss-blumenfeld.de
X-WR-CALDESC:Veranstaltungen für Schloss Blumenfeld
REFRESH-INTERVAL;VALUE=DURATION:PT1H
X-Robots-Tag:noindex
X-PUBLISHED-TTL:PT1H
BEGIN:VTIMEZONE
TZID:Europe/Berlin
BEGIN:DAYLIGHT
TZOFFSETFROM:+0100
TZOFFSETTO:+0200
TZNAME:CEST
DTSTART:20250330T010000
END:DAYLIGHT
BEGIN:STANDARD
TZOFFSETFROM:+0200
TZOFFSETTO:+0100
TZNAME:CET
DTSTART:20251026T010000
END:STANDARD
END:VTIMEZONE
BEGIN:VEVENT
DTSTART;TZID=Europe/Berlin:20250330T140000
DTEND;TZID=Europe/Berlin:20250330T170000
DTSTAMP:20260424T124540
CREATED:20250107T165014Z
LAST-MODIFIED:20250107T181547Z
UID:6594-1743343200-1743354000@schloss-blumenfeld.de
SUMMARY:Schlosscafé
DESCRIPTION:Das Schlosscafé ist an diesem Sonntag wieder für euch geöffnet! \nEs gibt Kaffee\, Kuchen und immer einen netten Plausch. Sobald sich der Frühling mit wärmeren Temperaturen zeigt\, könnt ihr auch in unserem schönen Schlossgarten verweilen!
URL:https://schloss-blumenfeld.de/veranstaltung/schlosscafe-7/
LOCATION:Schloss Blumenfeld\, Schlossstraße 12\, Tengen\, 78250\, Deutschland
CATEGORIES:Startseite
ATTACH;FMTTYPE=image/jpeg:https://schloss-blumenfeld.de/wp-content/uploads/2025/01/Schlosscafe-Eingang.jpg
END:VEVENT
END:VCALENDAR