BEGIN:VCALENDAR
VERSION:2.0
PRODID:-//Schloss Blumenfeld - ECPv6.3.7//NONSGML v1.0//EN
CALSCALE:GREGORIAN
METHOD:PUBLISH
X-ORIGINAL-URL:https://schloss-blumenfeld.de
X-WR-CALDESC:Veranstaltungen für Schloss Blumenfeld
REFRESH-INTERVAL;VALUE=DURATION:PT1H
X-Robots-Tag:noindex
X-PUBLISHED-TTL:PT1H
BEGIN:VTIMEZONE
TZID:Europe/Berlin
BEGIN:DAYLIGHT
TZOFFSETFROM:+0100
TZOFFSETTO:+0200
TZNAME:CEST
DTSTART:20250330T010000
END:DAYLIGHT
BEGIN:STANDARD
TZOFFSETFROM:+0200
TZOFFSETTO:+0100
TZNAME:CET
DTSTART:20251026T010000
END:STANDARD
END:VTIMEZONE
BEGIN:VEVENT
DTSTART;TZID=Europe/Berlin:20250329T160000
DTEND;TZID=Europe/Berlin:20250329T164000
DTSTAMP:20260422T175524
CREATED:20250221T205212Z
LAST-MODIFIED:20250227T125737Z
UID:6941-1743264000-1743266400@schloss-blumenfeld.de
SUMMARY:Bravo Manolo! - Theater für Kinder ab 4 Jahren
DESCRIPTION:Manolo\, ein Stier steht zufrieden auf einer grünen Wiese. Um ihn herum tanzen bunte Schmetterlinge. Er erfreut sich an der schönen Natur. Allerdings war er nicht der einzige Stier auf der Wiese\, da waren auch noch Paco und Pepe. Die beiden erfreuten sich daran ihre Kräfte im spielerischen Wettstreit zu messen. Sie träumten davon einst in der Arena zu kämpfen. Eines Tages kam der Torero Jose an der Wiese von Paco\, Pepe und Manolo vorbei. Er war auf der Suche nach einem wilden\, starken Stier für den nächsten Kampf. Ob er sich für einen der drei entscheiden würde? \nEndlich\, der große Tag war gekommen. Jung und Alt zog es in die Arena. Der Tusch erklang\, die Spannung stieg\, es wurde mucksmäuschenstill als der Stier in der Arena erschien. Applaus brandete auf als Jose das rote Tuch schwang. Aber was war das…? \nEin Stück über den Umgang mit Provokationen\, Stärken und Schwächen. Sowie darüber mutig seinen Weg zu finden. \nFür Theaterfreunde ab 4 Jahren. \nGespielt vom Guckmal Figurentheater \nDie Veranstaltung findet in Kooperation mit der Universität Konstanz statt.
URL:https://schloss-blumenfeld.de/veranstaltung/bravo-manolo-theater-fuer-kinder-ab-4-jahren/
LOCATION:Kulturbühne Schloss Blumenfeld\, Schlossstraße 12\, Tengen\, 78250\, Deutschland
CATEGORIES:Kinder,Startseite,Theater
ATTACH;FMTTYPE=image/jpeg:https://schloss-blumenfeld.de/wp-content/uploads/2025/02/Design-ohne-Titel-6.jpg
END:VEVENT
END:VCALENDAR