BEGIN:VCALENDAR
VERSION:2.0
PRODID:-//Schloss Blumenfeld - ECPv6.3.7//NONSGML v1.0//EN
CALSCALE:GREGORIAN
METHOD:PUBLISH
X-ORIGINAL-URL:https://schloss-blumenfeld.de
X-WR-CALDESC:Veranstaltungen für Schloss Blumenfeld
REFRESH-INTERVAL;VALUE=DURATION:PT1H
X-Robots-Tag:noindex
X-PUBLISHED-TTL:PT1H
BEGIN:VTIMEZONE
TZID:Europe/Berlin
BEGIN:DAYLIGHT
TZOFFSETFROM:+0100
TZOFFSETTO:+0200
TZNAME:CEST
DTSTART:20250330T010000
END:DAYLIGHT
BEGIN:STANDARD
TZOFFSETFROM:+0200
TZOFFSETTO:+0100
TZNAME:CET
DTSTART:20251026T010000
END:STANDARD
END:VTIMEZONE
BEGIN:VEVENT
DTSTART;TZID=Europe/Berlin:20250328T190000
DTEND;TZID=Europe/Berlin:20250328T230000
DTSTAMP:20260422T175602
CREATED:20240108T192401Z
LAST-MODIFIED:20250319T191742Z
UID:4818-1743188400-1743202800@schloss-blumenfeld.de
SUMMARY:Feierabendhock: Speed Dating #4 x internationales Seminar
DESCRIPTION:Es gibt wieder einen der beliebten Speed-Dating-Abende! \nMoment mal\, Speed Dating? Keine Sorge\, es geht nicht darum\, den Partner oder die Partnerin fürs Leben zu finden\, sondern auf lustige und kurzweilige Art mit alten und neuen Bekannten ins Gespräch zu kommen. Wir können versprechen: Es wird lustig\, es wird tiefgründig\, es wird überraschend und auf jeden Fall viel Spaß machen! \nDer Feierabendhock beginnt um 19 Uhr. Wenn du das Speed Dating nicht verpassen willst\, solltest du spätestens um 19:20 da sein. \nGeschichten von migrierenden Äpfeln –\nKleiner Einblick in ein internationales Seminar\nDieses Mal gibt es eine Besonderheit: Vom 24.-30. März ist ein internationales Seminar mit Studierenden aus Paris\, Nantes\, Sofia und Konstanz zu Gast in Schloss Blumenfeld. \nEine Woche lang reflektieren die Studierenden die kulturstiftende Kraft von Migration. Dabei bedienen sie sich der langen Geschichte des Apfels\, der vor fast 2 Millionen Jahren\, nach der letzten Eiszeit\, sich vom Himmelsgebirge im heutigen Kasachstan auf die lange Reise in den Westen machte: als Nahrung von Bären und Pferden\, als luxuriöse Handelsware\, als Grundstoff für leicht herzustellenden Alkohol\, als rucksackgeeignete Ernährung der Legionen Roms. Auf dem Weg\, der ihn zum beliebtesten Obst der Welt machte\, änderte der Apfel seine Bedeutung\, niedergelegt in einer kaum überschaubaren Zahl von Geschichten. Diese Geschichten verfolgen die Studierenden mit Mitteln des modernen Figurentheaters. \nAm Feierabendhock kommen sie beim Speed-Dating gern ins Gespräch mit allen Interessierten. \nPS: Wie gewohnt kannst du auch ohne Speed Dating einfach zu einem Feierabendgetränk und guten Gesprächen vorbeikommen. Wir freuen uns auf euch!
URL:https://schloss-blumenfeld.de/veranstaltung/feierabendhock-13/
LOCATION:Schlosscafé im Schloss Blumenfeld\, Schlossstraße 12\, Tengen\, 78250\, Deutschland
CATEGORIES:Feierabendhock,Startseite
ATTACH;FMTTYPE=image/jpeg:https://schloss-blumenfeld.de/wp-content/uploads/2023/10/Feierabendhock_Wohnzimmer.jpg
END:VEVENT
END:VCALENDAR