BEGIN:VCALENDAR
VERSION:2.0
PRODID:-//Schloss Blumenfeld - ECPv6.3.7//NONSGML v1.0//EN
CALSCALE:GREGORIAN
METHOD:PUBLISH
X-ORIGINAL-URL:https://schloss-blumenfeld.de
X-WR-CALDESC:Veranstaltungen für Schloss Blumenfeld
REFRESH-INTERVAL;VALUE=DURATION:PT1H
X-Robots-Tag:noindex
X-PUBLISHED-TTL:PT1H
BEGIN:VTIMEZONE
TZID:Europe/Berlin
BEGIN:DAYLIGHT
TZOFFSETFROM:+0100
TZOFFSETTO:+0200
TZNAME:CEST
DTSTART:20250330T010000
END:DAYLIGHT
BEGIN:STANDARD
TZOFFSETFROM:+0200
TZOFFSETTO:+0100
TZNAME:CET
DTSTART:20251026T010000
END:STANDARD
END:VTIMEZONE
BEGIN:VEVENT
DTSTART;VALUE=DATE:20250314
DTEND;VALUE=DATE:20250317
DTSTAMP:20260422T175707
CREATED:20250123T100139Z
LAST-MODIFIED:20250217T095122Z
UID:6737-1741910400-1742169599@schloss-blumenfeld.de
SUMMARY:Macher*innen-Wochenende
DESCRIPTION:Vom 14. bis 16. März laden wir ganz herzlich ein zu einem Wochenende voller Werkeln\, Anpacken\, Kreativität und Gemeinschaft auf Schloss Blumenfeld! \nWir lieben es zu Werkeln – und am liebsten tun wir das in guter Gesellschaft. Dafür haben wir ein eigenes Format ins Leben gerufen: Das Macher*innen-Wochenende! Für ein Wochenende kommen Ehrenamtliche von Nah und Fern zusammen und schaffen das gemeinschaftlich\, was alleine nicht zu schaffen wäre und gemeinsam doppelt so viel Freude macht. An den ersten Macher*innen-Wochenenden haben wir alte Möbel aufbereitet\, genäht\, gestrichen\, gesägt\, gekocht und kreativ gestaltet. Dabei liegt uns immer ein wertschätzender Umgang mit dem Vorhandenen am Herzen. \nNun gehen wir in die nächste Runde und Schloss Blumenfeld lädt mit den Architektinnen Alica Clemens und Yolanda Guastaferro wieder ein: Lasst uns gemeinsam die Frühlingssaison einläuten und mit Machergeist und guten Ideen ein paar triste Ecken im Schloss zum Leben erwecken. Nach getaner Arbeit kommen wir gemütlich zusammen bei Feierabendhock\, Lagerfeuer und Schlosscafé. Wir tauschen Übernachtung und Essen gegen Tatkraft. \nDu hast Lust\, für ein Wochenende ein*e Macher*in zu werden und das Denkmal Schloss Blumenfeld mitzugestalten? Dann melde dich über dieses Formular bis zum 8. Februar an oder schreibe bei Fragen eine Mail an: alica@schloss-blumenfeld.de Wir freuen uns schon auf’s gemeinsame Anpacken\, Gestalten\, Rumräumen und Werkeln! Let’s go!
URL:https://schloss-blumenfeld.de/veranstaltung/macherinnen-wochenende/
LOCATION:Schloss Blumenfeld\, Schlossstraße 12\, Tengen\, 78250\, Deutschland
CATEGORIES:Diverses,Startseite
ATTACH;FMTTYPE=image/jpeg:https://schloss-blumenfeld.de/wp-content/uploads/2025/01/Macherinnen-Wochenende-scaled.jpg
END:VEVENT
BEGIN:VEVENT
DTSTART;TZID=Europe/Berlin:20250314T190000
DTEND;TZID=Europe/Berlin:20250314T230000
DTSTAMP:20260422T175707
CREATED:20231008T174249Z
LAST-MODIFIED:20241222T202508Z
UID:4536-1741978800-1741993200@schloss-blumenfeld.de
SUMMARY:Feierabendhock mit Spieleabend
DESCRIPTION:Spielst du gerne? Wir auch! \nBring deine Lieblingsspiele mit und lass uns gemeinsam spielen. Los geht’s wie immer um 19 Uhr. Wenn du das gemeinsame Spielen nicht verpassen willst\, solltest du spätestens um 19:20 da sein.
URL:https://schloss-blumenfeld.de/veranstaltung/feierabendhock-11/
LOCATION:Schlosscafé im Schloss Blumenfeld\, Schlossstraße 12\, Tengen\, 78250\, Deutschland
CATEGORIES:Feierabendhock,Startseite
ATTACH;FMTTYPE=image/jpeg:https://schloss-blumenfeld.de/wp-content/uploads/2023/10/Spieleabend-im-Schloss.jpg
END:VEVENT
END:VCALENDAR