BEGIN:VCALENDAR
VERSION:2.0
PRODID:-//Schloss Blumenfeld - ECPv6.3.7//NONSGML v1.0//EN
CALSCALE:GREGORIAN
METHOD:PUBLISH
X-ORIGINAL-URL:https://schloss-blumenfeld.de
X-WR-CALDESC:Veranstaltungen für Schloss Blumenfeld
REFRESH-INTERVAL;VALUE=DURATION:PT1H
X-Robots-Tag:noindex
X-PUBLISHED-TTL:PT1H
BEGIN:VTIMEZONE
TZID:Europe/Berlin
BEGIN:DAYLIGHT
TZOFFSETFROM:+0100
TZOFFSETTO:+0200
TZNAME:CEST
DTSTART:20250330T010000
END:DAYLIGHT
BEGIN:STANDARD
TZOFFSETFROM:+0200
TZOFFSETTO:+0100
TZNAME:CET
DTSTART:20251026T010000
END:STANDARD
END:VTIMEZONE
BEGIN:VEVENT
DTSTART;TZID=Europe/Berlin:20250302T140000
DTEND;TZID=Europe/Berlin:20250302T170000
DTSTAMP:20260422T161856
CREATED:20250107T163254Z
LAST-MODIFIED:20250107T163341Z
UID:6588-1740924000-1740934800@schloss-blumenfeld.de
SUMMARY:Schlosscafé
DESCRIPTION:Das Schlosscafé ist an diesem Sonntag wieder für euch geöffnet! \nEs gibt Kaffee\, Kuchen und immer einen netten Plausch. Sobald sich der Frühling mit wärmeren Temperaturen zeigt\, könnt ihr auch in unserem schönen Schlossgarten verweilen!
URL:https://schloss-blumenfeld.de/veranstaltung/schlosscafe-5/
LOCATION:Schloss Blumenfeld\, Schlossstraße 12\, Tengen\, 78250\, Deutschland
CATEGORIES:Startseite
ATTACH;FMTTYPE=image/jpeg:https://schloss-blumenfeld.de/wp-content/uploads/2024/04/Fahrrad-Wegweiser.jpg
END:VEVENT
BEGIN:VEVENT
DTSTART;TZID=Europe/Berlin:20250302T143000
DTEND;TZID=Europe/Berlin:20250302T160000
DTSTAMP:20260422T161856
CREATED:20241202T214703Z
LAST-MODIFIED:20241202T214703Z
UID:6475-1740925800-1740931200@schloss-blumenfeld.de
SUMMARY:Schlossführung mit dem Bürgerverein
DESCRIPTION:Die Blumenfelderin Mariele Stiehl führt euch durch die verschiedenen Zeitepochen\, die das Schloss durchlebt hat. Vom Obervogt in der Renaissance über die badische Zeit im 19. Jahrhundert zu 130 Jahre Zweckverband. Für Kaffee und Kuchen ist im Anschluss auch gesorgt – denn das Schlosscafé hat an diesem Termin parallel geöffnet. \n\nWir bitten um Anmeldung per E-Mail unter mariele.stiehl@schloss-blumenfeld.de (bis 3 Tage vorher\, Restplätze ggf. vor Ort). Die Mindestteilnehmerzahl beträgt 5\, max. 12. Treffpunkt ist der Schlossvorplatz. Wir freuen uns auf euch!
URL:https://schloss-blumenfeld.de/veranstaltung/schlossfuehrung-mit-dem-buergerverein-7/
LOCATION:Schlossvorplatz\, Schlossstraße 12\, Tengen\, 78250\, Deutschland
CATEGORIES:Schlossführung,Startseite
ATTACH;FMTTYPE=image/jpeg:https://schloss-blumenfeld.de/wp-content/uploads/2024/04/Ausstellungsebene_neu.jpg
END:VEVENT
END:VCALENDAR