BEGIN:VCALENDAR
VERSION:2.0
PRODID:-//Schloss Blumenfeld - ECPv6.3.7//NONSGML v1.0//EN
CALSCALE:GREGORIAN
METHOD:PUBLISH
X-WR-CALNAME:Schloss Blumenfeld
X-ORIGINAL-URL:https://schloss-blumenfeld.de
X-WR-CALDESC:Veranstaltungen für Schloss Blumenfeld
REFRESH-INTERVAL;VALUE=DURATION:PT1H
X-Robots-Tag:noindex
X-PUBLISHED-TTL:PT1H
BEGIN:VTIMEZONE
TZID:Europe/Berlin
BEGIN:DAYLIGHT
TZOFFSETFROM:+0100
TZOFFSETTO:+0200
TZNAME:CEST
DTSTART:20250330T010000
END:DAYLIGHT
BEGIN:STANDARD
TZOFFSETFROM:+0200
TZOFFSETTO:+0100
TZNAME:CET
DTSTART:20251026T010000
END:STANDARD
END:VTIMEZONE
BEGIN:VEVENT
DTSTART;TZID=Europe/Berlin:20250214T190000
DTEND;TZID=Europe/Berlin:20250214T230000
DTSTAMP:20260424T124707
CREATED:20231008T174003Z
LAST-MODIFIED:20241222T202411Z
UID:4533-1739559600-1739574000@schloss-blumenfeld.de
SUMMARY:Feierabendhock mit Fasnachtsparty
DESCRIPTION:Fasnacht steht vor der Tür! \nWir wollen uns gemeinsam auf die Fasnacht einstimmen\, komm also gerne verkleidet und schwing deine Hüften auf dem Dancefloor im Gewölbe. Außerdem wird es die Möglichkeit geben\, Fotos von dir und deinen Outfits mit verschiedenen Requisiten zu machen. \nDer Feierabendhock beginnt wie immer um 19 Uhr.  \nPS: Wie gewohnt kannst du auch einfach zu einem Feierabendgetränk und guten Gesprächen vorbeikommen. Wir freuen uns auf euch!
URL:https://schloss-blumenfeld.de/veranstaltung/feierabendhock-2/
LOCATION:Schlosscafé im Schloss Blumenfeld\, Schlossstraße 12\, Tengen\, 78250\, Deutschland
CATEGORIES:Feierabendhock,Startseite
ATTACH;FMTTYPE=image/jpeg:https://schloss-blumenfeld.de/wp-content/uploads/2023/10/Fasnacht-2023.jpg
END:VEVENT
END:VCALENDAR