BEGIN:VCALENDAR
VERSION:2.0
PRODID:-//Schloss Blumenfeld - ECPv6.3.7//NONSGML v1.0//EN
CALSCALE:GREGORIAN
METHOD:PUBLISH
X-WR-CALNAME:Schloss Blumenfeld
X-ORIGINAL-URL:https://schloss-blumenfeld.de
X-WR-CALDESC:Veranstaltungen für Schloss Blumenfeld
REFRESH-INTERVAL;VALUE=DURATION:PT1H
X-Robots-Tag:noindex
X-PUBLISHED-TTL:PT1H
BEGIN:VTIMEZONE
TZID:Europe/Berlin
BEGIN:DAYLIGHT
TZOFFSETFROM:+0100
TZOFFSETTO:+0200
TZNAME:CEST
DTSTART:20250330T010000
END:DAYLIGHT
BEGIN:STANDARD
TZOFFSETFROM:+0200
TZOFFSETTO:+0100
TZNAME:CET
DTSTART:20251026T010000
END:STANDARD
END:VTIMEZONE
BEGIN:VEVENT
DTSTART;TZID=Europe/Berlin:20250202T140000
DTEND;TZID=Europe/Berlin:20250202T170000
DTSTAMP:20260420T075123
CREATED:20250107T142048Z
LAST-MODIFIED:20250107T162614Z
UID:6572-1738504800-1738515600@schloss-blumenfeld.de
SUMMARY:Schlosscafé
DESCRIPTION:Das Schlosscafé ist an diesem Sonntag wieder für euch geöffnet! \nNehmt Platz in unserem gemütlichen Gewölbe – es gibt Kaffee\, Kuchen und immer einen netten Plausch. Wir freuen uns auf euch!
URL:https://schloss-blumenfeld.de/veranstaltung/schlosscafe-3/
LOCATION:Schlosscafé im Schloss Blumenfeld\, Schlossstraße 12\, Tengen\, 78250\, Deutschland
CATEGORIES:Startseite
ATTACH;FMTTYPE=image/jpeg:https://schloss-blumenfeld.de/wp-content/uploads/2025/01/Schlosscafe-Eingang.jpg
END:VEVENT
END:VCALENDAR