BEGIN:VCALENDAR
VERSION:2.0
PRODID:-//Schloss Blumenfeld - ECPv6.3.7//NONSGML v1.0//EN
CALSCALE:GREGORIAN
METHOD:PUBLISH
X-WR-CALNAME:Schloss Blumenfeld
X-ORIGINAL-URL:https://schloss-blumenfeld.de
X-WR-CALDESC:Veranstaltungen für Schloss Blumenfeld
REFRESH-INTERVAL;VALUE=DURATION:PT1H
X-Robots-Tag:noindex
X-PUBLISHED-TTL:PT1H
BEGIN:VTIMEZONE
TZID:Europe/Berlin
BEGIN:DAYLIGHT
TZOFFSETFROM:+0100
TZOFFSETTO:+0200
TZNAME:CEST
DTSTART:20250330T010000
END:DAYLIGHT
BEGIN:STANDARD
TZOFFSETFROM:+0200
TZOFFSETTO:+0100
TZNAME:CET
DTSTART:20251026T010000
END:STANDARD
END:VTIMEZONE
BEGIN:VEVENT
DTSTART;TZID=Europe/Berlin:20250131T190000
DTEND;TZID=Europe/Berlin:20250131T230000
DTSTAMP:20260424T130234
CREATED:20241222T165349Z
LAST-MODIFIED:20241222T201518Z
UID:6496-1738350000-1738364400@schloss-blumenfeld.de
SUMMARY:Feierabendhock der Erinnerungen
DESCRIPTION:Heute gibt es einen besonderen Feierabendhock! Gemeinsam wollen wir in Erinnerungen schwelgen und darüber sprechen. Du hast Lust\, deine Erinnerungen zu teilen? Dann bring deine schönsten Bilder mit und teile sie mit den anderen.  \nWir wollen ein gemeinsames Fotoalbum daraus erstellen. Wenn du möchtest\, kannst du uns deine Bilder zur Verfügung stellen und bekommst im Gegenzug ein digitales Fotoalbum als Erinnerung.  \nDer Feierabendhock beginnt um 19 Uhr. Wenn du beim Fotoalbum dabei sein möchtest\, solltest du spätestens um 19:20 da sein. \nPS: Wie gewohnt kannst du auch einfach zu einem Feierabendgetränk und guten Gesprächen vorbeikommen. Wir freuen uns auf euch!
URL:https://schloss-blumenfeld.de/veranstaltung/feierabendhock-der-erinnerungen/
LOCATION:Schlosscafé im Schloss Blumenfeld\, Schlossstraße 12\, Tengen\, 78250\, Deutschland
CATEGORIES:Feierabendhock,Startseite
ATTACH;FMTTYPE=image/jpeg:https://schloss-blumenfeld.de/wp-content/uploads/2024/12/Fotopraesentation-im-Schlossgewoelbe.jpg
END:VEVENT
END:VCALENDAR