BEGIN:VCALENDAR
VERSION:2.0
PRODID:-//Schloss Blumenfeld - ECPv6.3.7//NONSGML v1.0//EN
CALSCALE:GREGORIAN
METHOD:PUBLISH
X-WR-CALNAME:Schloss Blumenfeld
X-ORIGINAL-URL:https://schloss-blumenfeld.de
X-WR-CALDESC:Veranstaltungen für Schloss Blumenfeld
REFRESH-INTERVAL;VALUE=DURATION:PT1H
X-Robots-Tag:noindex
X-PUBLISHED-TTL:PT1H
BEGIN:VTIMEZONE
TZID:Europe/Berlin
BEGIN:DAYLIGHT
TZOFFSETFROM:+0100
TZOFFSETTO:+0200
TZNAME:CEST
DTSTART:20250330T010000
END:DAYLIGHT
BEGIN:STANDARD
TZOFFSETFROM:+0200
TZOFFSETTO:+0100
TZNAME:CET
DTSTART:20251026T010000
END:STANDARD
END:VTIMEZONE
BEGIN:VEVENT
DTSTART;TZID=Europe/Berlin:20250105T140000
DTEND;TZID=Europe/Berlin:20250105T170000
DTSTAMP:20260420T061639
CREATED:20240808T191755Z
LAST-MODIFIED:20241128T145352Z
UID:5838-1736085600-1736096400@schloss-blumenfeld.de
SUMMARY:Schlosscafé
DESCRIPTION:Nach einer kurzen Pause ist das Schlosscafé an diesem Sonntag wieder für euch geöffnet. \nWir freuen uns schon jetzt\, euch nach dem Jahreswechsel am 5. Januar wieder mit Kaffee und Kuchen begrüßen zu können. Kommt vorbei!
URL:https://schloss-blumenfeld.de/veranstaltung/schlosscafe/
LOCATION:Schlosscafé im Schloss Blumenfeld\, Schlossstraße 12\, Tengen\, 78250\, Deutschland
CATEGORIES:Startseite
ATTACH;FMTTYPE=image/jpeg:https://schloss-blumenfeld.de/wp-content/uploads/2024/08/Tisch-im-Schlosscafe.jpg
END:VEVENT
BEGIN:VEVENT
DTSTART;TZID=Europe/Berlin:20250105T143000
DTEND;TZID=Europe/Berlin:20250105T160000
DTSTAMP:20260420T061639
CREATED:20240419T163623Z
LAST-MODIFIED:20241224T092314Z
UID:5506-1736087400-1736092800@schloss-blumenfeld.de
SUMMARY:Schlossführung mit dem Bürgerverein
DESCRIPTION:Die Blumenfelderin Mariele Stiehl führt euch durch die verschiedenen Zeitepochen\, die das Schloss durchlebt hat. Vom Obervogt in der Renaissance über die badische Zeit im 19. Jahrhundert zu 130 Jahre Zweckverband. Für Kaffee und Kuchen ist im Anschluss auch gesorgt – denn das Schlosscafé hat an diesem Termin parallel geöffnet. \n\nWir bitten um Anmeldung per E-Mail unter mariele.stiehl@schloss-blumenfeld.de (bis 3 Tage vorher\, Restplätze ggf. vor Ort). Die Mindestteilnehmerzahl beträgt 5\, max. 12. Treffpunkt ist der Schlossvorplatz. Wir freuen uns auf euch! \nWeitere Schlossführungen mit dem Bürgerverein finden statt am: 16. Februar\, 2. März und 27. April 2025.
URL:https://schloss-blumenfeld.de/veranstaltung/schlossfuehrung-mit-dem-buergerverein-5/
LOCATION:Schlossvorplatz\, Schlossstraße 12\, Tengen\, 78250\, Deutschland
CATEGORIES:Schlossführung,Startseite
ATTACH;FMTTYPE=image/jpeg:https://schloss-blumenfeld.de/wp-content/uploads/2021/10/Schlossfuehrung_Mariele.jpg
END:VEVENT
END:VCALENDAR