BEGIN:VCALENDAR
VERSION:2.0
PRODID:-//Schloss Blumenfeld - ECPv6.3.7//NONSGML v1.0//EN
CALSCALE:GREGORIAN
METHOD:PUBLISH
X-WR-CALNAME:Schloss Blumenfeld
X-ORIGINAL-URL:https://schloss-blumenfeld.de
X-WR-CALDESC:Veranstaltungen für Schloss Blumenfeld
REFRESH-INTERVAL;VALUE=DURATION:PT1H
X-Robots-Tag:noindex
X-PUBLISHED-TTL:PT1H
BEGIN:VTIMEZONE
TZID:Europe/Berlin
BEGIN:DAYLIGHT
TZOFFSETFROM:+0100
TZOFFSETTO:+0200
TZNAME:CEST
DTSTART:20240331T010000
END:DAYLIGHT
BEGIN:STANDARD
TZOFFSETFROM:+0200
TZOFFSETTO:+0100
TZNAME:CET
DTSTART:20241027T010000
END:STANDARD
END:VTIMEZONE
BEGIN:VEVENT
DTSTART;TZID=Europe/Berlin:20241208T140000
DTEND;TZID=Europe/Berlin:20241208T200000
DTSTAMP:20260420T061638
CREATED:20240204T171515Z
LAST-MODIFIED:20241107T181713Z
UID:5062-1733666400-1733688000@schloss-blumenfeld.de
SUMMARY:Schlossweihnacht
DESCRIPTION:Der Bürgerverein Schloss Blumenfeld e.V. lädt wieder zur bezaubernden Schlossweihnacht am zweiten Advent ein! \nDa kribbelt es vor Vorfreude auf weihnachtliche Magie und Beisammensein in festlicher Kulisse auf dem Kirchplatz und Schlossgarten. Es gibt Glühwein und Kinderpunsch\, Geschichten für Kinder und der Nikolaus kommt vorbei. An einer Vielzahl an kleinen Ständen wird wieder Kunsthandwerk und Selbstgemachtes angeboten. Die Chorgemeinschaft Blumenfeld – Tengen – Talheim wird Weihnachtslieder singen und es gibt Waffeln\, Herzhaftes und das Schlosscafé hat an diesem Tag auch für euch mit festlichen Kuchen und heißen Getränken geöffnet. \nVon 14 bis 17 Uhr könnt ihr außerdem die aktuelle Fotografie-Ausstellung „Kontraste” von unserem Artist in Residence Lukas Rübenacker besuchen. Kommt vorbei und bringt eure eigene Tasse für Heißgetränke mit! Wir freuen uns auf gemeinsames vorweihnachtliches Beisammensein!
URL:https://schloss-blumenfeld.de/veranstaltung/schlossweihnacht-2/
LOCATION:Im Städtle von Blumenfeld vor dem Schloss\, Schlossstraße 12\, Tengen\, 78250\, Deutschland
CATEGORIES:Schloss-Weihnacht,Startseite
ATTACH;FMTTYPE=image/jpeg:https://schloss-blumenfeld.de/wp-content/uploads/2024/02/Schloss-Weihnacht-Blumenfeld.jpg
END:VEVENT
END:VCALENDAR