BEGIN:VCALENDAR
VERSION:2.0
PRODID:-//Schloss Blumenfeld - ECPv6.3.7//NONSGML v1.0//EN
CALSCALE:GREGORIAN
METHOD:PUBLISH
X-ORIGINAL-URL:https://schloss-blumenfeld.de
X-WR-CALDESC:Veranstaltungen für Schloss Blumenfeld
REFRESH-INTERVAL;VALUE=DURATION:PT1H
X-Robots-Tag:noindex
X-PUBLISHED-TTL:PT1H
BEGIN:VTIMEZONE
TZID:Europe/Berlin
BEGIN:DAYLIGHT
TZOFFSETFROM:+0100
TZOFFSETTO:+0200
TZNAME:CEST
DTSTART:20240331T010000
END:DAYLIGHT
BEGIN:STANDARD
TZOFFSETFROM:+0200
TZOFFSETTO:+0100
TZNAME:CET
DTSTART:20241027T010000
END:STANDARD
END:VTIMEZONE
BEGIN:VEVENT
DTSTART;TZID=Europe/Berlin:20241110T140000
DTEND;TZID=Europe/Berlin:20241110T170000
DTSTAMP:20260420T044558
CREATED:20240521T142550Z
LAST-MODIFIED:20241016T121138Z
UID:5616-1731247200-1731258000@schloss-blumenfeld.de
SUMMARY:Vernissage mit Lukas Rübenacker
DESCRIPTION:Seit Februar 2024 arbeitet Lukas Rübenacker\, Foto- & Videograf\, als Artist in Residence im Schloss Blumenfeld. Sein Atelier liegt an einem magischen Ort im Schloss\, wo die ersten Sonnenstrahlen auf uralte bemalte Wände treffen. In dieser einzigartigen Atmosphäre entstehen seine Werke – eine Symbiose aus Vergangenheit und Gegenwart\, aus Architektur und Kunst. In seiner Zeit als Artist in Residence hat Lukas nicht nur das Schloss und seine Menschen kennengelernt\, sondern auch eine tiefe Verbindung zu diesem besonderen Ort aufgebaut. \nWas erwartet euch? Lukas’ Ausstellung zeigt die Vielfalt seiner Arbeit: Von präzise inszenierten Stillleben\, die Ruhe und Konzentration ausstrahlen\, bis hin zu spontanen Schnappschüssen\, die in Sekunden voller Intuition entstehen. Diese Kontraste verleihen der Ausstellung eine besondere Dynamik. Während seiner Residency hat Lukas auch viele der kulturellen Highlights des Schlossjahres 2024 fotografisch festgehalten – lebendige\, farbenfrohe Momente\, die die Energie und den Geist des Ortes spürbar machen. Und das Beste: Unsere Ausstellungsfläche wird sich in ein Foto-Set verwandeln. Ihr habt die Möglichkeit\, selbst Teil der Ausstellung zu werden. \nDie Ausstellung kann nach der Vernissage auch parallel zum Schlosscafé am\n• Sonntag\, 24. November\, 14 bis 17 Uhr\nbesucht werden und während der Schlossweihnacht am\n• Sonntag\, 8. Dezember\, 14 bis 17 Uhr. \nMehr zu unseren Ausstellungen findet ihr auch hier. Kommt vorbei\, wir freuen uns auf euch!
URL:https://schloss-blumenfeld.de/veranstaltung/vernissage-im-schloss/
LOCATION:Ausstellungsebene im Schloss Blumenfeld\, Schlossstraße 12\, Tengen\, 78250\, Deutschland
CATEGORIES:Ausstellung,Startseite
ATTACH;FMTTYPE=image/jpeg:https://schloss-blumenfeld.de/wp-content/uploads/2024/04/Lukas-Ruebenacker.jpg
END:VEVENT
END:VCALENDAR