BEGIN:VCALENDAR
VERSION:2.0
PRODID:-//Schloss Blumenfeld - ECPv6.3.7//NONSGML v1.0//EN
CALSCALE:GREGORIAN
METHOD:PUBLISH
X-ORIGINAL-URL:https://schloss-blumenfeld.de
X-WR-CALDESC:Veranstaltungen für Schloss Blumenfeld
REFRESH-INTERVAL;VALUE=DURATION:PT1H
X-Robots-Tag:noindex
X-PUBLISHED-TTL:PT1H
BEGIN:VTIMEZONE
TZID:Europe/Berlin
BEGIN:DAYLIGHT
TZOFFSETFROM:+0100
TZOFFSETTO:+0200
TZNAME:CEST
DTSTART:20240331T010000
END:DAYLIGHT
BEGIN:STANDARD
TZOFFSETFROM:+0200
TZOFFSETTO:+0100
TZNAME:CET
DTSTART:20241027T010000
END:STANDARD
END:VTIMEZONE
BEGIN:VEVENT
DTSTART;TZID=Europe/Berlin:20240927T183000
DTEND;TZID=Europe/Berlin:20240927T213000
DTSTAMP:20260423T125736
CREATED:20240110T100638Z
LAST-MODIFIED:20240702T232653Z
UID:4845-1727461800-1727472600@schloss-blumenfeld.de
SUMMARY:Hofkonzert mit La Diri
DESCRIPTION:Schloss Blumenfeld & NUN-Magazin präsentieren euch die Hofkonzerte-Saison 2024: \nWir freuen uns auf ein Revival mit La Diri! \nNach einem fulminanten Auftritt im letzten Jahr kommt La Diri auf vielfachen Wunsch wieder zu uns ins Schloss! Leidenschaft\, Talent und Freude an der Musik bringt jeder einzelne der fünfköpfigen Band mit. Von Stevie Wonder über AnnenMayKantereit bis hin zu Santana und Ed Sheeran covert die Band im „La Diri Stil“ für jeden Musikgeschmack. Das wird ein Fest! \nDer Vorverkauf hat begonnen!Tickets zum Preis von 12 € gibt es über Eventbrite (Abendkasse 15 €\, falls Restkarten verfügbar). \nEinlass: 18:30 Uhr | Beginn: 19:00 Uhr \n			\n				Jetzt Ticket sichern
URL:https://schloss-blumenfeld.de/veranstaltung/hofkonzert-mit-la-diri-2/
LOCATION:Kulturbühne Schloss Blumenfeld\, Schlossstraße 12\, Tengen\, 78250\, Deutschland
CATEGORIES:Hofkonzerte,Startseite
ATTACH;FMTTYPE=image/jpeg:https://schloss-blumenfeld.de/wp-content/uploads/2024/01/La-Diri_Hofkonzert-2023.jpg
END:VEVENT
END:VCALENDAR