BEGIN:VCALENDAR
VERSION:2.0
PRODID:-//Schloss Blumenfeld - ECPv6.3.7//NONSGML v1.0//EN
CALSCALE:GREGORIAN
METHOD:PUBLISH
X-ORIGINAL-URL:https://schloss-blumenfeld.de
X-WR-CALDESC:Veranstaltungen für Schloss Blumenfeld
REFRESH-INTERVAL;VALUE=DURATION:PT1H
X-Robots-Tag:noindex
X-PUBLISHED-TTL:PT1H
BEGIN:VTIMEZONE
TZID:Europe/Berlin
BEGIN:DAYLIGHT
TZOFFSETFROM:+0100
TZOFFSETTO:+0200
TZNAME:CEST
DTSTART:20240331T010000
END:DAYLIGHT
BEGIN:STANDARD
TZOFFSETFROM:+0200
TZOFFSETTO:+0100
TZNAME:CET
DTSTART:20241027T010000
END:STANDARD
END:VTIMEZONE
BEGIN:VEVENT
DTSTART;TZID=Europe/Berlin:20240915T140000
DTEND;TZID=Europe/Berlin:20240915T153000
DTSTAMP:20260423T123110
CREATED:20240416T164344Z
LAST-MODIFIED:20240910T084026Z
UID:5358-1726408800-1726414200@schloss-blumenfeld.de
SUMMARY:Historische Schlossführung
DESCRIPTION:mit Stadtführerin Claudia Schäffer  \nSeit über 500 Jahren thront das Schloss Blumenfeld auf einem mächtigen Kalkfelsen hoch über dem Wasserfall der Biber. Schicht auf Schicht bergen die Mauern Relikte aus allen Epochen der wechselhaften Nutzung des Schlosses\, das einst vom Deutschen Ritterorden erbaut wurde. \nDie Schlossführung ist nicht barrierefrei. Im Anschluss der Führung ist eine Einkehr im Schlosscafé möglich. \nTreffpunkt: im Schlosshof\nPreis: 10 €\nDauer: 1h30
URL:https://schloss-blumenfeld.de/veranstaltung/historische-schlossfuehrung/
LOCATION:Schloss Blumenfeld\, Schlossstraße 12\, Tengen\, 78250\, Deutschland
CATEGORIES:Schlossführung,Startseite
ATTACH;FMTTYPE=image/jpeg:https://schloss-blumenfeld.de/wp-content/uploads/2024/04/Stadttor-Fuehrung-Blumenfeld.jpg
END:VEVENT
BEGIN:VEVENT
DTSTART;TZID=Europe/Berlin:20240915T140000
DTEND;TZID=Europe/Berlin:20240915T170000
DTSTAMP:20260423T123110
CREATED:20240906T170232Z
LAST-MODIFIED:20240906T173742Z
UID:5886-1726408800-1726419600@schloss-blumenfeld.de
SUMMARY:Schlosscafé mit Ausstellung
DESCRIPTION:Wenn man Miriam Vogts Kunstwerke betrachtet\, ist es ein bisschen so wie Menschen durch die Welt gehen – Eindrücke und Erinnerungen verschwimmen und ergeben ein Ganzes. Dabei sind ihre abstrakten Bilder keine Abbildungen\, sondern vielmehr Notizen oder Stenogramme von etwas. \n„Meine Arbeiten leben von der Energie der Eindrücke\, die meine Tage bieten: da hinterlässt ein Berg Apfelschalen und Kinderspiel genauso Eindrücke wie ein gutes Gespräch\, ein neuer Gedanke oder ein grellblauer Plastikstuhl mitten in der Wüste.” – Miriam Vogt \nIn ihren Kunstwerken ist nicht alles ausbuchstabiert\, um eine Offenheit dafür zu schaffen\, was sich entwickeln kann. Wir sind gespannt\, welche Geschichten erzählt werden\, wenn ihre Bilder mit den vielen Zeitschichten der historischen Wände von Schloss Blumenfeld kommunizieren! \nMiriam Vogt ist in Villingen und der Schweiz als freischaffende Künstlerin und Dozentin tätig. \nDie Ausstellung kann nach der Vernissage auch an folgenden Tagen parallel zum Schlosscafé besucht werden: \n• Sonntag\, 29. September\, 14 – 17 Uhr\n• Sonntag\, 13. Oktober\, 14 – 17 Uhr \nMehr zu unseren Ausstellungen findet ihr auch hier. Kommt vorbei\, wir freuen uns auf euch!
URL:https://schloss-blumenfeld.de/veranstaltung/schlosscafe-mit-ausstellung/
LOCATION:Ausstellungsebene im Schloss Blumenfeld\, Schlossstraße 12\, Tengen\, 78250\, Deutschland
CATEGORIES:Ausstellung,Startseite
ATTACH;FMTTYPE=image/jpeg:https://schloss-blumenfeld.de/wp-content/uploads/2024/09/Kunstwerke-von-Miriam-Vogt-2.jpg
END:VEVENT
END:VCALENDAR