BEGIN:VCALENDAR
VERSION:2.0
PRODID:-//Schloss Blumenfeld - ECPv6.3.7//NONSGML v1.0//EN
CALSCALE:GREGORIAN
METHOD:PUBLISH
X-ORIGINAL-URL:https://schloss-blumenfeld.de
X-WR-CALDESC:Veranstaltungen für Schloss Blumenfeld
REFRESH-INTERVAL;VALUE=DURATION:PT1H
X-Robots-Tag:noindex
X-PUBLISHED-TTL:PT1H
BEGIN:VTIMEZONE
TZID:Europe/Berlin
BEGIN:DAYLIGHT
TZOFFSETFROM:+0100
TZOFFSETTO:+0200
TZNAME:CEST
DTSTART:20240331T010000
END:DAYLIGHT
BEGIN:STANDARD
TZOFFSETFROM:+0200
TZOFFSETTO:+0100
TZNAME:CET
DTSTART:20241027T010000
END:STANDARD
END:VTIMEZONE
BEGIN:VEVENT
DTSTART;TZID=Europe/Berlin:20240913T190000
DTEND;TZID=Europe/Berlin:20240913T230000
DTSTAMP:20260423T125736
CREATED:20240808T190728Z
LAST-MODIFIED:20240808T191135Z
UID:5832-1726254000-1726268400@schloss-blumenfeld.de
SUMMARY:Feierabendhock mit Speed Dating #3
DESCRIPTION:Nach der kleinen Sommerpause starten wir mit einem Revival des beliebten Speed-Dating-Abends in die 2. Jahreshälfte! Moment mal\, Speed Dating? Keine Sorge\, es geht nicht darum\, den Partner oder die Partnerin fürs Leben zu finden\, sondern auf lustige und kurzweilige Art mit alten und neuen Bekannten ins Gespräch zu kommen. Wir können versprechen: Es wird lustig\, es wird tiefgründig\, es wird überraschend und auf jeden Fall viel Spaß machen! \nDer Feierabendhock beginnt um 19 Uhr. Wenn du das Speed Dating nicht verpassen willst\, solltest du spätestens um 19:20 da sein.  \nPS: Wie gewohnt kannst du auch einfach zu einem Feierabendgetränk und guten Gesprächen vorbeikommen. Wir freuen uns auf euch!
URL:https://schloss-blumenfeld.de/veranstaltung/feierabendhock-mit-speed-dating-3/
LOCATION:Schlosscafé im Schloss Blumenfeld\, Schlossstraße 12\, Tengen\, 78250\, Deutschland
CATEGORIES:Feierabendhock,Startseite
ATTACH;FMTTYPE=image/jpeg:https://schloss-blumenfeld.de/wp-content/uploads/2023/04/Feierabendhock_Aperol.jpg
END:VEVENT
END:VCALENDAR