BEGIN:VCALENDAR
VERSION:2.0
PRODID:-//Schloss Blumenfeld - ECPv6.3.7//NONSGML v1.0//EN
CALSCALE:GREGORIAN
METHOD:PUBLISH
X-WR-CALNAME:Schloss Blumenfeld
X-ORIGINAL-URL:https://schloss-blumenfeld.de
X-WR-CALDESC:Veranstaltungen für Schloss Blumenfeld
REFRESH-INTERVAL;VALUE=DURATION:PT1H
X-Robots-Tag:noindex
X-PUBLISHED-TTL:PT1H
BEGIN:VTIMEZONE
TZID:Europe/Berlin
BEGIN:DAYLIGHT
TZOFFSETFROM:+0100
TZOFFSETTO:+0200
TZNAME:CEST
DTSTART:20240331T010000
END:DAYLIGHT
BEGIN:STANDARD
TZOFFSETFROM:+0200
TZOFFSETTO:+0100
TZNAME:CET
DTSTART:20241027T010000
END:STANDARD
END:VTIMEZONE
BEGIN:VEVENT
DTSTART;TZID=Europe/Berlin:20240908T110000
DTEND;TZID=Europe/Berlin:20240908T170000
DTSTAMP:20260420T012801
CREATED:20240110T101503Z
LAST-MODIFIED:20240906T152837Z
UID:4850-1725793200-1725814800@schloss-blumenfeld.de
SUMMARY:Tag des offenen Denkmals
DESCRIPTION:Schloss Blumenfeld ist ein lebendiges Denkmal der Stadt Tengen und zeigt sich in all seinem Facettenreichtum und seiner Vielfältigkeit an diesem besonderen Tag! Ein Programm aus Kultur\, Kunst\, Kulinarik und Mitmachangeboten für Groß und Klein erwartet euch: \nAb 11 UHR\nFrühschoppen im Schlosshof mit dem Bürgerverein Schloss Blumenfeld e.V.\nmit Blasmusik Musikverein Büßlingen\nKinderprogramm Hüpfburg\, Spieleparkour \nAb 13 UHR\nEröffnungsrede Ortsvorsteher Thomas Wezstein und Dr. Christine Schneider (Landesamt für Denkmalpflege)\nSchlossmanufaktur #2 Wir finden es sehr inspirierend zwischen alten historischen Wänden mit unperfekten Charme kreativ zu werden – deshalb laden wir euch ganz herzlich zur Schlossmanufaktur #2 ein! Die Räume der Ausstellungsebene werden mit besonders viel Liebe von Künstler*innen und Schlossfreund*innen bespielt\, die euch zu kreativen Mitmach-Workshops einladen – von Experimentellem Holzschnitt mit Miriam Vogt bis zu Perlenarmbändern mit Susanne Bräutigam und Penelope Kühling ist für Klein und Groß etwas dabei.\nSchlosscafé & Imbiss\nAkustik Covermusik mit Paula aus Ulm \n14 UHR\nAusstellungseröffnung mit Künstlerin Miriam Vogt \nFührungen\n11-12 Uhr & 15-16 Uhr:\nProjekt Zukunftsort Führung mit Schlossbewohner Thomas Blennemann*\n11:30-13 Uhr & 14:30-16 Uhr:\nHistorische Führung mit Blumenfelderin und Vereinsmitglied Mariele Stiehl**\n14-15:15 Uhr und 15:30-17 Uhr:\nBauhistorische Führung mit Bauforscher Christian Fuchs & Restauratorin Cornelia Marinowitz***\nMehr zu den Führungen s.u.\nEigenständiger Rundgang jederzeit! \nBlick hinter die Kulissen\nz.B. Offenes Atelier Lukas Rübenacker\, Workation-Zimmer\, Ergebnisse des Bauforschungs-Seminars der Studis der HTWG Konstanz\, Einblicke in den Entstehungsprozess des Projektes\, …\n\nWir freuen uns auf euren Besuch! \n  \n*Die Führung mit Schlossbewohner Thomas Blennemann schafft einen Blick hinter die Kulissen und rein ins Projekt Zukunftsort Schloss Blumenfeld! Wie der ehemalige Leerstand seit 2021 als temporärer Wohn-\, Arbeits-\, Veranstaltungs- und Begegnungsort wiederbelebt wird und wie das in einer spannenden Akteurskonstellation aus Stadt\, Bürgerverein und Zukunfts(ort)gestalterinnen passiert wird hier genauer erläutert und das bei einer Führung inmitten durch das historische Gemäuer voller Leben. \n**Die Blumenfelderin Mariele Stiehl führt euch durch die verschiedenen Zeitepochen\, die das Schloss durchlebt hat. Vom Obervogt in der Renaissance über die badische Zeit im 19. Jahrhundert zu 130 Jahre Zweckverband. \n*** Bauforscher Christian Fuchs\, HTWG Konstanz und Restauratorin Cornelia Marinowitz\, Tengen führen durch mehrere Jahrhunderte (Bau)kultur. Im Sommersemester 2023 und 2024 untersuchten Studierende des Fachs Denkmalpflege und Bauforschung der HTWG Konstanz einige Bereiche im Schloss Blumenfeld auf seine Baugeschichte. Die Ergebnisse waren zum Teil überraschend und sind eine aufschlussreiche Ergänzung der bisher bekannten Entwicklungsgeschichte des Bauwerks.
URL:https://schloss-blumenfeld.de/veranstaltung/tag-des-offenen-denkmals-3/
LOCATION:Schloss Blumenfeld\, Schlossstraße 12\, Tengen\, 78250\, Deutschland
CATEGORIES:Schlossführung,Startseite
ATTACH;FMTTYPE=image/jpeg:https://schloss-blumenfeld.de/wp-content/uploads/2023/04/Aussenansicht-Schloss-gruen.jpg
END:VEVENT
END:VCALENDAR