BEGIN:VCALENDAR
VERSION:2.0
PRODID:-//Schloss Blumenfeld - ECPv6.3.7//NONSGML v1.0//EN
CALSCALE:GREGORIAN
METHOD:PUBLISH
X-ORIGINAL-URL:https://schloss-blumenfeld.de
X-WR-CALDESC:Veranstaltungen für Schloss Blumenfeld
REFRESH-INTERVAL;VALUE=DURATION:PT1H
X-Robots-Tag:noindex
X-PUBLISHED-TTL:PT1H
BEGIN:VTIMEZONE
TZID:Europe/Berlin
BEGIN:DAYLIGHT
TZOFFSETFROM:+0100
TZOFFSETTO:+0200
TZNAME:CEST
DTSTART:20240331T010000
END:DAYLIGHT
BEGIN:STANDARD
TZOFFSETFROM:+0200
TZOFFSETTO:+0100
TZNAME:CET
DTSTART:20241027T010000
END:STANDARD
END:VTIMEZONE
BEGIN:VEVENT
DTSTART;TZID=Europe/Berlin:20240726T183000
DTEND;TZID=Europe/Berlin:20240726T213000
DTSTAMP:20260419T222329
CREATED:20240204T160133Z
LAST-MODIFIED:20240702T225510Z
UID:5046-1722018600-1722029400@schloss-blumenfeld.de
SUMMARY:Hofkonzert mit Guacáyo
DESCRIPTION:Schloss Blumenfeld & NUN-Magazin präsentieren euch die Hofkonzerte-Saison 2024: \nWe want to move the people\, body and soul! \nGuacáyos vielseitige Indiepop-Shows sind ein Fest der Authentizität und Gemeinschaft. Hier darf jeder sein\, wer er oder sie* ist\, und das Publikum wird zur Selbstakzeptanz eingeladen. In ihren eingängigen und berührenden Songs beweist die Band\, dass ihre künstlerische Reise nicht nur musikalisch\, sondern auch emotional und spirituell inspiriert. Guacáyo\, bestehend aus Tim Lucas\, Tobias Nitzbon\, Justus Murphy und der faszinierenden Sophie Filip\, schreiben und produzieren ihre Musik mittlerweile seit über 6 Jahren selbst. Ihr Debütalbum INDIGO SKY erscheint im Oktober. Willkommen in der Welt von Guacáyo – wo die Musik deinen Körper und deine Seele bewegt! \nDer Vorverkauf hat begonnen!Tickets zum Preis von 12 € gibt es über Eventbrite (Abendkasse 15 €\, falls Restkarten verfügbar). \n\nEinlass: 18:30 Uhr | Beginn: 19:00 Uhr \n\n			\n				Jetzt Ticket buchen
URL:https://schloss-blumenfeld.de/veranstaltung/hofkonzert-mit-guacayo/
LOCATION:Kulturbühne Schloss Blumenfeld\, Schlossstraße 12\, Tengen\, 78250\, Deutschland
CATEGORIES:Hofkonzerte,Startseite
ATTACH;FMTTYPE=image/jpeg:https://schloss-blumenfeld.de/wp-content/uploads/2024/02/Hofkonzert-mit-Guacayo.jpg
END:VEVENT
END:VCALENDAR