BEGIN:VCALENDAR
VERSION:2.0
PRODID:-//Schloss Blumenfeld - ECPv6.3.7//NONSGML v1.0//EN
CALSCALE:GREGORIAN
METHOD:PUBLISH
X-WR-CALNAME:Schloss Blumenfeld
X-ORIGINAL-URL:https://schloss-blumenfeld.de
X-WR-CALDESC:Veranstaltungen für Schloss Blumenfeld
REFRESH-INTERVAL;VALUE=DURATION:PT1H
X-Robots-Tag:noindex
X-PUBLISHED-TTL:PT1H
BEGIN:VTIMEZONE
TZID:Europe/Berlin
BEGIN:DAYLIGHT
TZOFFSETFROM:+0100
TZOFFSETTO:+0200
TZNAME:CEST
DTSTART:20240331T010000
END:DAYLIGHT
BEGIN:STANDARD
TZOFFSETFROM:+0200
TZOFFSETTO:+0100
TZNAME:CET
DTSTART:20241027T010000
END:STANDARD
END:VTIMEZONE
BEGIN:VEVENT
DTSTART;TZID=Europe/Berlin:20240721T143000
DTEND;TZID=Europe/Berlin:20240721T163000
DTSTAMP:20260419T222022
CREATED:20240502T112743Z
LAST-MODIFIED:20240702T212545Z
UID:5541-1721572200-1721579400@schloss-blumenfeld.de
SUMMARY:TUKK#3 Familientag: Zauberkunst mit David Langendörfer
DESCRIPTION:Das Theater- und Kleinkunstfestival TUKK geht in diesem Sommer in die 3. Runde: \nFreut euch auf einen magisch verrückten Auftritt von Zauberkünstler David Langendörfer! Vor und nach der Show sind der Schlossgarten mit Spielepark und das Schlosscafé geöffnet. Der Eintritt ist frei! \nDavid Langendörfer\, 27\, aufgewachsen am Bodensee\, Waldorfschüler\, studiert Philosophie und Ökonomie\, ist Zauberkünstler\, Moderator\, zukünftiger Lehrer und Freigeist. Der hohe Anspruch\, den David Langendörfer an sich selbst und seine Kunst stellt\, zeigt sich in erstklassigen Kunststücken\, einer charmanten Nähe zum Publikum und der richtigen Portion Humor. \nIn 13 Jahren auf der Bühne wurde David Langendörfer mehrfach für seine künstlerische Arbeit ausgezeichnet. Neben dem 3. Platz bei den Deutschen Jugendmeisterschaften der Zauberkunst 2014\, erhielt er 2015 den Kunst- und Kulturförderpreis Hegau-Bodensee und wurde 2019 bei der Vorentscheidung zur Deutschen Meisterschaft in der Königsklasse Manipulation Süddeutscher Meister. 2022 wurde Langendörfer für die WM nominiert. \nEinlass ab 14:30 Uhr | Beginn 15 Uhr \n 
URL:https://schloss-blumenfeld.de/veranstaltung/tukk3-familientag-zauberkunst-mit-david-langendoerfer/
LOCATION:Kulturbühne Schloss Blumenfeld\, Schlossstraße 12\, Tengen\, 78250\, Deutschland
CATEGORIES:Startseite,Theater
ATTACH;FMTTYPE=image/jpeg:https://schloss-blumenfeld.de/wp-content/uploads/2024/02/TUKK-2.jpg
END:VEVENT
BEGIN:VEVENT
DTSTART;TZID=Europe/Berlin:20240721T180000
DTEND;TZID=Europe/Berlin:20240721T213000
DTSTAMP:20260419T222022
CREATED:20231208T141106Z
LAST-MODIFIED:20240718T220641Z
UID:4791-1721584800-1721597400@schloss-blumenfeld.de
SUMMARY:SWR Big Band feat. Queens of Soul
DESCRIPTION:Wir sind ausverkauft! Deswegen wird es leider keine Abendkasse geben. Die allerletzten Tickets erhaltet ihr direkt beim SWR unter: www.swr.de/swrkultur/musik-jazz-und-pop/big-band/event-swr-2966.html \nSollte das Konzert wetterbedingt nicht stattfinden können\, wird die Veranstaltung verschoben und die Tickets behalten ihre Gültigkeit. Infos dazu wird es ggf. kurzfristig über unsere Social-Media-Kanäle geben. \nDie SWR Big Band kommt nach Blumenfeld! \nDieser Abend lässt die Seele tanzen: Mit „Queens of Soul“ bringt die SWR Big Band Soulmusik\, die von Frauen gemacht wurde. Im Programm finden sich Klassiker von Aretha Franklin\, Diana Ross\, Natalie Cole\, Nina Simone und Dionne Warwick genauso wie aktuelle Songs von Beyonce\, Snarky Puppy oder Lizz Wright. \nUnterstützt wird die Band dabei gleich von drei außergewöhnlichen Soulstimmen aus Deutschland\, USA & Schweden. Die lokalen Farben hält die Bandsängerin und aktuelle deutsche Jazzpreisträgerin Fola Dada hoch\, die seit mehreren Jahren mit der SWR Big Band tourt und CDs veröffentlicht. Aus New York stammt Onita Boone\, die mit ihrer 3 Oktaven-Stimme schon mit Whitney Houston\, Patti Labelle oder Elton John tourte. Mit Ida Sand aus Stockholm kommt zudem eine der profiliertesten Jazz- und Soul-Sängerinnen Skandinaviens\, die den sogenannten Blue-Eyed-Soul repräsentiert. \nDas wird ein sehr emotionaler Abend mit zu Herzen gehenden Balladen und in die Beine gehenden Grooves. Dafür steht natürlich auch die vierfach für Grammy nominierte SWR Big Band\, die einmal mehr ihre ungemeine Wandlungsfähigkeit unterstreicht. \nEinlass ab 18 Uhr | Beginn 19 Uhr \n			\n				Jetzt Ticket sichern
URL:https://schloss-blumenfeld.de/veranstaltung/schloss-open-air-swr-big-band-feat-queens-of-soul/
LOCATION:Kulturbühne Schloss Blumenfeld\, Schlossstraße 12\, Tengen\, 78250\, Deutschland
CATEGORIES:Hofkonzerte,Startseite
ATTACH;FMTTYPE=image/jpeg:https://schloss-blumenfeld.de/wp-content/uploads/2023/12/Hofkonzert_Queens-of-Soul.jpg
END:VEVENT
END:VCALENDAR