BEGIN:VCALENDAR
VERSION:2.0
PRODID:-//Schloss Blumenfeld - ECPv6.3.7//NONSGML v1.0//EN
CALSCALE:GREGORIAN
METHOD:PUBLISH
X-WR-CALNAME:Schloss Blumenfeld
X-ORIGINAL-URL:https://schloss-blumenfeld.de
X-WR-CALDESC:Veranstaltungen für Schloss Blumenfeld
REFRESH-INTERVAL;VALUE=DURATION:PT1H
X-Robots-Tag:noindex
X-PUBLISHED-TTL:PT1H
BEGIN:VTIMEZONE
TZID:Europe/Berlin
BEGIN:DAYLIGHT
TZOFFSETFROM:+0100
TZOFFSETTO:+0200
TZNAME:CEST
DTSTART:20240331T010000
END:DAYLIGHT
BEGIN:STANDARD
TZOFFSETFROM:+0200
TZOFFSETTO:+0100
TZNAME:CET
DTSTART:20241027T010000
END:STANDARD
END:VTIMEZONE
BEGIN:VEVENT
DTSTART;TZID=Europe/Berlin:20240623T120000
DTEND;TZID=Europe/Berlin:20240623T150000
DTSTAMP:20260423T125357
CREATED:20240604T100454Z
LAST-MODIFIED:20251014T191717Z
UID:5647-1719144000-1719154800@schloss-blumenfeld.de
SUMMARY:Bürger*innen-Austausch: Das Schloss mitgestalten
DESCRIPTION:Die Veranstaltung wird aus organisatorischen Gründen auf den 29. September verschoben. Weitere Infos folgen bald! \nWie wollen wir unsere Nachbarschaft und Ortschaft aktuell und in Zukunft gestalten? Was kostet eigentlich ein Leerstandsprojekt wie das Schloss Blumenfeld? Und was braucht Tengen und die Region in den nächsten Jahren? \nNach drei Jahren Zwischennutzung Schloss Blumenfeld wollen wir ein erstes Zwischenfazit ziehen und gemeinsam mit euch in den Austausch gehen. Unser Bürgermeister Selcuk Gök und das Veranstaltungsteam laden dazu Bürger*innen von Tengen zu unserer neuen Veranstaltung „Das Schloss mitgestalten“ am Sonntag\, den 23. Juni von 12 bis 15 Uhr im Bürgersaal der Stadt Tengen ein. \nIhr wollt bei den oben genannten Fragen mitreden\, mitwirken und mitgestalten und seid Tengener Bürger*innen? Werdet Teil unseres Zukunftsformats\, welches von euren Erfahrungen lebt. \nMeldet euch bei Interesse an einer Teilnahme unter diesem Link bis zum 12. Juni an. \nWir freuen uns auf einen interaktiven Nachmittag voller Gespräche\, Einblicke und Begegnungen! \n 
URL:https://schloss-blumenfeld.de/veranstaltung/buergerinnen-austausch-schloss-blumenfeld-mitgestalten/
LOCATION:Bürgersaal Tengen\, Marktstraße 3\, Tengen\, 78250\, Deutschland
ATTACH;FMTTYPE=image/jpeg:https://schloss-blumenfeld.de/wp-content/uploads/2024/06/Schloss-Blumenfeld-Mitgestalten_Einladungsbild.jpg
END:VEVENT
END:VCALENDAR