BEGIN:VCALENDAR
VERSION:2.0
PRODID:-//Schloss Blumenfeld - ECPv6.3.7//NONSGML v1.0//EN
CALSCALE:GREGORIAN
METHOD:PUBLISH
X-WR-CALNAME:Schloss Blumenfeld
X-ORIGINAL-URL:https://schloss-blumenfeld.de
X-WR-CALDESC:Veranstaltungen für Schloss Blumenfeld
REFRESH-INTERVAL;VALUE=DURATION:PT1H
X-Robots-Tag:noindex
X-PUBLISHED-TTL:PT1H
BEGIN:VTIMEZONE
TZID:Europe/Berlin
BEGIN:DAYLIGHT
TZOFFSETFROM:+0100
TZOFFSETTO:+0200
TZNAME:CEST
DTSTART:20240331T010000
END:DAYLIGHT
BEGIN:STANDARD
TZOFFSETFROM:+0200
TZOFFSETTO:+0100
TZNAME:CET
DTSTART:20241027T010000
END:STANDARD
END:VTIMEZONE
BEGIN:VEVENT
DTSTART;TZID=Europe/Berlin:20240602T110000
DTEND;TZID=Europe/Berlin:20240602T180000
DTSTAMP:20260419T190849
CREATED:20240110T085908Z
LAST-MODIFIED:20240517T135203Z
UID:4837-1717326000-1717351200@schloss-blumenfeld.de
SUMMARY:Wein im Schloss #3
DESCRIPTION:Am 2. Juni gibt es ein kulinarisches Highlight im Schloss! \nBereits zum 3. Mal findet „Wein im Schloss“ statt: Aus verschiedenen Weinanbaugebieten haben sich Weingüter und Winzergenossenschaften angemeldet und werden ihre genussreichen Produkte im und um Schloss Blumenfeld zur Verkostung präsentieren. Es werden österreichische Tropfen wie Grüner Veltliner und Zweigelt angeboten\, die frischen Weine vom Bodensee\, die Burgundersorten und Cuvées aus dem Kaiserstuhl\, württembergische Klassiker wie Lemberger und Trollinger\, auch internationale Rebsorten und alkoholfreie Weine. \nIm Gewölbe des Schlosscafés bietet die Familie Mottillo italienische Weine\, Balsamico und Olivenöl an. Für die Pause zwischendurch öffnet das Schlosscafé mit einladendem Außenbereich und bietet neben Kaffee & Kuchen auch Eis von Herstellern aus der Region und erfrischende Kaltgetränke an.  \nAuf der Bühne im Schlosshof wird „Miss Müllers Mucke“ für einen tanzbaren musikalischen Rahmen sorgen. Zwischendurch bietet sich für eine Pause der Schlossgarten an\, mit kulinarischen Freuden von Caterer „Joerger Boerger“ und der Bäckerei Knöpfle aus Blumberg. \nDer Vorverkauf hat begonnen! Tickets zum Preis von 12 €* gibt es über Eventbrite hier.\nDer Eintritt an der Tageskasse beträgt 15 €*.\n* Kinder bis einschließlich 15 Jahre kostenlos\n* zzgl. 5 € Glaspfand bar am Einlass zu bezahlen \nWeitere VVK-Stellen vor Ort (bis 30.5. jeweils zu den Öffnungszeiten):\n– Schlosscafé\n– Rathaus Stadt Tengen\n– Weinlädele Bäurer in Blumberg\n– Bäckerei Knöpfle in Blumberg \nAussteller: Winzer Franz Tanzer\, Wachau Österreich; Staatsweingut Meersburg\, Bodensee; Winzerverein Hagnau\, Bodensee; Weingut Zotz\, Markgräflerland; Winzergenossenschaft Burkheim\, Kaiserstuhl; Winzergenossenschaft Sasbach\, Kaiserstuhl; Weingut Landerer\, Oberbergen\, Kaiserstuhl; Collegium Wirtemberg\, Stuttgart-Rotenberg; Genossenschaftskellerei Heilbronn; die Glottertäler Winzer; Weingut Dr. Hinkel\, Rheinhessen; Weingut Familie Fischborn\, Rheinhessen; Weingut Mößner\, Breisgau; Weingut Herztal; Ortenau
URL:https://schloss-blumenfeld.de/veranstaltung/wein-im-schloss-3/
LOCATION:Schloss Blumenfeld\, Schlossstraße 12\, Tengen\, 78250\, Deutschland
CATEGORIES:Startseite
ATTACH;FMTTYPE=image/jpeg:https://schloss-blumenfeld.de/wp-content/uploads/2023/04/WeinimSchloss_2023.jpg
END:VEVENT
END:VCALENDAR