BEGIN:VCALENDAR
VERSION:2.0
PRODID:-//Schloss Blumenfeld - ECPv6.3.7//NONSGML v1.0//EN
CALSCALE:GREGORIAN
METHOD:PUBLISH
X-WR-CALNAME:Schloss Blumenfeld
X-ORIGINAL-URL:https://schloss-blumenfeld.de
X-WR-CALDESC:Veranstaltungen für Schloss Blumenfeld
REFRESH-INTERVAL;VALUE=DURATION:PT1H
X-Robots-Tag:noindex
X-PUBLISHED-TTL:PT1H
BEGIN:VTIMEZONE
TZID:Europe/Berlin
BEGIN:DAYLIGHT
TZOFFSETFROM:+0100
TZOFFSETTO:+0200
TZNAME:CEST
DTSTART:20240331T010000
END:DAYLIGHT
BEGIN:STANDARD
TZOFFSETFROM:+0200
TZOFFSETTO:+0100
TZNAME:CET
DTSTART:20241027T010000
END:STANDARD
END:VTIMEZONE
BEGIN:VEVENT
DTSTART;TZID=Europe/Berlin:20240428T140000
DTEND;TZID=Europe/Berlin:20240428T170000
DTSTAMP:20260419T172457
CREATED:20240410T191853Z
LAST-MODIFIED:20240410T191853Z
UID:5449-1714312800-1714323600@schloss-blumenfeld.de
SUMMARY:Schlosscafé mit Ausstellung: (Vor)bilder
DESCRIPTION:Freut euch auf Kaffee\, Kuchen und Kunst in historischer Kulisse! \nAn diesem Sonntag ist das Schlosscafé wieder für euch geöffnet. Parallel dazu könnt ihr auch die aktuelle Ausstellung „(Vor)bilder“ kostenlos besichtigen. Mehr zur Ausstellung erfahrt ihr hier. Kommt vorbei!
URL:https://schloss-blumenfeld.de/veranstaltung/schlosscafe-mit-ausstellung-vorbilder/
LOCATION:Schlosscafé im Schloss Blumenfeld\, Schlossstraße 12\, Tengen\, 78250\, Deutschland
CATEGORIES:Ausstellung,Startseite
ATTACH;FMTTYPE=image/jpeg:https://schloss-blumenfeld.de/wp-content/uploads/2024/04/Schlossgarten.jpg
END:VEVENT
BEGIN:VEVENT
DTSTART;TZID=Europe/Berlin:20240428T143000
DTEND;TZID=Europe/Berlin:20240428T160000
DTSTAMP:20260419T172457
CREATED:20240416T184607Z
LAST-MODIFIED:20240416T191849Z
UID:5485-1714314600-1714320000@schloss-blumenfeld.de
SUMMARY:Schlossführung mit dem Bürgerverein
DESCRIPTION:Die Blumenfelderin Mariele Stiehl führt euch durch die verschiedenen Zeitepochen\, die das Schloss durchlebt hat. Vom Obervogt in der Renaissance über die badische Zeit im 19. Jahrhundert zu 130 Jahre Zweckverband. Für Kaffee und Kuchen ist im Anschluss auch gesorgt – denn das Schlosscafé hat an allen Terminen parallel geöffnet. \n\nWir bitten um Anmeldung per E-Mail unter mariele.stiehl@schloss-blumenfeld.de (bis 3 Tage vorher\, Restplätze ggf. vor Ort). Die Mindestteilnehmerzahl beträgt 5\, max. 12. Treffpunkt ist der Schlossvorplatz. Wir freuen uns auf euch! \n\nDie nächsten Führungen finden an folgenden Terminen statt:\n\nSo\, 28.4. 14.30 – 16 Uhr\nSo\, 9.6. 14.30 – 16 Uhr\nSo\, 29.9. 14.30 – 16 Uhr\nSo\, 13.10. 14.30 – 16 Uhr\nSo\, 10.11.  14.30 – 16 Uhr
URL:https://schloss-blumenfeld.de/veranstaltung/schlossfuehrung-mit-dem-buergerverein/
LOCATION:Schlossvorplatz\, Schlossstraße 12\, Tengen\, 78250\, Deutschland
CATEGORIES:Schlossführung,Startseite
ATTACH;FMTTYPE=image/jpeg:https://schloss-blumenfeld.de/wp-content/uploads/2021/10/Schlossfuehrung_Mariele.jpg
END:VEVENT
END:VCALENDAR