BEGIN:VCALENDAR
VERSION:2.0
PRODID:-//Schloss Blumenfeld - ECPv6.3.7//NONSGML v1.0//EN
CALSCALE:GREGORIAN
METHOD:PUBLISH
X-WR-CALNAME:Schloss Blumenfeld
X-ORIGINAL-URL:https://schloss-blumenfeld.de
X-WR-CALDESC:Veranstaltungen für Schloss Blumenfeld
REFRESH-INTERVAL;VALUE=DURATION:PT1H
X-Robots-Tag:noindex
X-PUBLISHED-TTL:PT1H
BEGIN:VTIMEZONE
TZID:Europe/Berlin
BEGIN:DAYLIGHT
TZOFFSETFROM:+0100
TZOFFSETTO:+0200
TZNAME:CEST
DTSTART:20240331T010000
END:DAYLIGHT
BEGIN:STANDARD
TZOFFSETFROM:+0200
TZOFFSETTO:+0100
TZNAME:CET
DTSTART:20241027T010000
END:STANDARD
END:VTIMEZONE
BEGIN:VEVENT
DTSTART;TZID=Europe/Berlin:20240413T120000
DTEND;TZID=Europe/Berlin:20240413T170000
DTSTAMP:20260419T141223
CREATED:20240108T202611Z
LAST-MODIFIED:20240112T162959Z
UID:4826-1713009600-1713027600@schloss-blumenfeld.de
SUMMARY:Städtle-Flohmarkt
DESCRIPTION:Nach der Premiere im vergangenen Jahr findet am 13. April 2024 der 2. Städtle-Flohmarkt in Blumenfeld statt!\nVon 12 bis 17 Uhr öffnen die Blumenfelder*innen ihre Türen und laden auf ihren Grundstücken zum Stöbern ein\, ausgemusterte Stehrumsel suchen eine neue Heimat. Parallel bietet das Schlosscafé (von 12 bis 17 Uhr) Kaffee & Kuchen im Schloss Blumenfeld an. Kommt vorbei! \nIhr möchtet mitmachen und einen Flohmarkt-Stand anmelden? Dann wendet euch bis zum 11. April an den Bürgerverein Schloss Blumenfeld e. V. unter: verein@schloss-blumenfeld.de\nDabei sind alle Menschen aus der Gemeinde – egal\, ob Tengen\, Watterdingen\, Büßlingen etc. – willkommen\, sich mit einem Stand vor dem Schloss oder im Schlossgarten zu beteiligen. Der Bürgerverein zeichnet vorgesehene Plätze mit je 2 m Länge ein. Standutensilien wie z. B. ein Tisch werden selbst mitgebracht. Die Standgebühr beträgt 5 € (entfällt für Mitglieder des Bürgervereins Schloss Blumenfeld e. V.). Wir freuen uns auf rege Teilnahme!
URL:https://schloss-blumenfeld.de/veranstaltung/staedtle-flohmarkt-2/
LOCATION:Im Städtle von Blumenfeld vor dem Schloss\, Schlossstraße 12\, Tengen\, 78250\, Deutschland
CATEGORIES:Startseite
ATTACH;FMTTYPE=image/jpeg:https://schloss-blumenfeld.de/wp-content/uploads/2023/07/Blumenfeld_Schlossblick.jpg
END:VEVENT
BEGIN:VEVENT
DTSTART;TZID=Europe/Berlin:20240413T170000
DTEND;TZID=Europe/Berlin:20240413T183000
DTSTAMP:20260419T141223
CREATED:20240331T190237Z
LAST-MODIFIED:20240331T191616Z
UID:5385-1713027600-1713033000@schloss-blumenfeld.de
SUMMARY:Ausstellungseröffnung: (Vor)bilder
DESCRIPTION:Wir eröffnen die Ausstellungsebene 2024 mit der ersten Kids- & Teenausstellung auf Schloss Blumenfeld! \nDer Bürgerverein und Schloss Blumenfeld laden ganz herzlich am Samstag\, den 13. April um 17 Uhr zur Vernissage ein: Es wird kreativ\, bunt und es gibt jede Menge spannende Themen zu besprechen! Kids\, Erwachsene\, Kunstinteressierte und Kunstneulinge sind alle herzlich eingeladen. \nWenn wir Kunst schaffen\, sind wir immer im Dialog – mit uns oder mit anderen. Was bewegt unsere junge Generation? Welche Themen finden Platz in ihrer Kunst? Wie entstehen ihre Werke? Was macht ihnen besonders viel Spaß? Was können wir von unseren jungen Künstler*innen lernen? Mit Kunst von Penelope und Winona Kühling\, Vilma Schroff\, Jule und Lovis Langer und Schüler*innen von der Tengener Künstlerin Inga Mahlstaedt. Kommt vorbei\, wir freuen uns riesig! \nDer Eintritt ist frei und ihr könnt die Ausstellung auch an folgenden Sonntagen besuchen (parallel zum geöffneten Schlosscafé): \n\n28. April 14–17 Uhr\n12. Mai 14–17 Uhr
URL:https://schloss-blumenfeld.de/veranstaltung/ausstellungseroeffnung-vorbilder/
LOCATION:Ausstellungsebene im Schloss Blumenfeld\, Schlossstraße 12\, Tengen\, 78250\, Deutschland
CATEGORIES:Ausstellung,Startseite
ATTACH;FMTTYPE=image/jpeg:https://schloss-blumenfeld.de/wp-content/uploads/2024/03/Kids-Teenausstellung-Blumenfeld.jpg
END:VEVENT
END:VCALENDAR